Workbook

Sheet HIST VYSLEDKY
A1: HOSPODARENI MESTA VCETNE FONDU MESTA
B2: 2012 | C2: 2013 | D2: 2014 | E2: 2015 | F2: 2016 | G2: 2017 | H2: 2018 | I2: 2019 | J2: 2020 | K2: 2021 | L2: 2022 | M2: 2023 | N2: 2024 | O2: 2025
A3: bezne vydaje | B3: 488 | C3: 448 | D3: 485 | E3: 458 | F3: 518 | G3: 573 | H3: 665
A4: z toho opravy majetku | B4: 50 | C4: 34 | D4: 53 | E4: 35 | F4: 51 | G4: 61 | H4: 100
A5: kapitalove vydaje | B5: 149 | C5: 123 | D5: 153 | E5: 148 | F5: 50 | G5: 98 | H5: 121
A6: vydaje celkem | B6: =B5+B3 -> 637 | C6: =C5+C3 -> 571 | D6: =D5+D3 -> 638 | E6: =E5+E3 -> 606 | F6: =F5+F3 -> 568 | G6: =G5+G3 -> 671 | H6: =H5+H3 -> 786
A7: danove prijmy / statni rozpocet | B7: 357 | C7: 403 | D7: 410 | E7: 424 | F7: 493 | G7: 536 | H7: 583
A8: kapitalove prijmy / prodej majetku | B8: 30 | C8: 11 | D8: 14 | E8: 1 | F8: 7 | G8: 22 | H8: 5
A9: nedanove prijmy / najemne (vc. VH) | B9: 69 | C9: 67 | D9: 69 | E9: 69 | F9: 79 | G9: 75 | H9: 76
A10: prijate dotace | B10: 173 | C10: 84 | D10: 128 | E10: 160 | F10: 128 | G10: 98 | H10: 102
A11: prijmy celkem | B11: =SUM(B7:B10) -> 629 | C11: =SUM(C7:C10) -> 565 | D11: =SUM(D7:D10) -> 621 | E11: =SUM(E7:E10) -> 654 | F11: =SUM(F7:F10) -> 707 | G11: =SUM(G7:G10) -> 731 | H11: 811
A12: prebytek/schodek rozpoctu | B12: =B11-B5-B3 -> -8 | C12: =C11-C5-C3 -> -6 | D12: =D11-D5-D3 -> -17 | E12: =E11-E5-E3 -> 48 | F12: =F11-F5-F3 -> 139 | G12: =G11-G5-G3 -> 60 | H12: =H11-H5-H3 -> 25
A14: bezne vydaje | B14: =B3 -> 488 | C14: =C3 -> 448 | D14: =D3 -> 485 | E14: =E3 -> 458 | F14: =F3 -> 518 | G14: =G3 -> 573 | H14: =H3 -> 665
A15: opravy (511) | B15: =B4 -> 50 | C15: =C4 -> 34 | D15: =D4 -> 53 | E15: =E4 -> 35 | F15: =F4 -> 51 | G15: =G4 -> 61 | H15: =H4 -> 100
A16: bezne vydaje bez oprav | B16: =B14-B15 -> 438 | C16: =C14-C15 -> 414 | D16: =D14-D15 -> 432 | E16: =E14-E15 -> 423 | F16: =F14-F15 -> 467 | G16: =G14-G15 -> 512 | H16: =H14-H15 -> 565
A18: bezne prijmy (bez kapitalovych) | B18: =B11-B8 -> 599 | C18: =C11-C8 -> 554 | D18: =D11-D8 -> 607 | E18: =E11-E8 -> 653 | F18: =F11-F8 -> 700 | G18: =G11-G8 -> 709 | H18: =H11-H8 -> 806
A20: prebytek na investice a opravy a spl.uveru | B20: =B18-B16 -> 161 | C20: =C18-C16 -> 140 | D20: =D18-D16 -> 175 | E20: =E18-E16 -> 230 | F20: =F18-F16 -> 233 | G20: =G18-G16 -> 197 | H20: 210
A22: zdroj: Monitor statni pokladna
A23: https://monitor.statnipokladna.cz/2018/obce/detail/00243132#rozpocet-souhrn
A26: SALDO BEZNYCH PRIJMU (MIL CZK) | B26: 2012 | C26: 2013 | D26: 2014 | E26: 2015 | F26: 2016 | G26: 2017 | H26: 2018
A27: =A16 -> bezne vydaje bez oprav | B27: =B16 -> 438 | C27: =C16 -> 414 | D27: =D16 -> 432 | E27: =E16 -> 423 | F27: =F16 -> 467 | G27: =G16 -> 512 | H27: =H16 -> 565
A28: =A18 -> bezne prijmy (bez kapitalovych) | B28: =B18 -> 599 | C28: =C18 -> 554 | D28: =D18 -> 607 | E28: =E18 -> 653 | F28: =F18 -> 700 | G28: =G18 -> 709 | H28: =H18 -> 806
A29: prebytek na investice a opravy | B29: =B28-B27 -> 161 | C29: =C28-C27 -> 140 | D29: =D28-D27 -> 175 | E29: =E28-E27 -> 230 | F29: =F28-F27 -> 233 | G29: =G28-G27 -> 197 | H29: =H28-H27 -> 241
A30: % prebytek na investice a opravy | B30: =B29/B28 -> 0.2687813 | C30: =C29/C28 -> 0.25270758 | D30: =D29/D28 -> 0.28830313 | E30: =E29/E28 -> 0.35222052 | F30: =F29/F28 -> 0.33285714 | G30: =G29/G28 -> 0.27785614 | H30: =H29/H28 -> 0.29900744

Sheet PREHLED 2020
A2: položky | C2: ROK 2020 | D2: ROK 2019 | F2: 1000000
A3: 1000-1999 | B3: Daňové příjmy | C3: =SUMIFS('DETAIL 2020'!$G$2:$G$641,'DETAIL 2020'!$A$2:$A$641,">999",'DETAIL 2020'!$A$2:$A$641,"<2000") -> 612798000 | F3: =C3/$F$2 -> 612.798
A4: 2000-2999 | B4: Nedaňové příjmy | C4: =SUMIFS('DETAIL 2020'!$G$2:$G$641,'DETAIL 2020'!$A$2:$A$641,">1999",'DETAIL 2020'!$A$2:$A$641,"<3000") -> 120975886 | F4: =C4/$F$2 -> 120.97589
A5: 3000-3999 | B5: Kapitálové příjmy | C5: =SUMIFS('DETAIL 2020'!$G$2:$G$641,'DETAIL 2020'!$A$2:$A$641,">2999",'DETAIL 2020'!$A$2:$A$641,"<4000") -> 20142396 | F5: =C5/$F$2 -> 20.142396
A6: 4000-4999 | B6: Přijaté dotace/transfery | C6: =SUMIFS('DETAIL 2020'!$G$2:$G$641,'DETAIL 2020'!$A$2:$A$641,">3999",'DETAIL 2020'!$A$2:$A$641,"<5000") -> 134000000 | F6: =C6/$F$2 -> 134
B7: PŘÍJMY CELKEM | C7: =SUM(C3:C6) -> 887916282 | F7: =C7/$F$2 -> 887.91628
A10: 5000-5999 | B10: Běžné výdaje | C10: =SUMIFS('DETAIL 2020'!$G$2:$G$641,'DETAIL 2020'!$A$2:$A$641,">4999",'DETAIL 2020'!$A$2:$A$641,"<6000") -> 776259295 | F10: =C10/$F$2 -> 776.25929
A11: 5171 | B11: z toho Opravy | C11: =SUMIFS('DETAIL 2020'!$G$2:$G$641,'DETAIL 2020'!$A$2:$A$641,"=5171") -> 114591230 | F11: =C11/$F$2 -> 114.59123
A12: 6000-6999 | B12: Kapitálové výdaje | C12: =SUMIFS('DETAIL 2020'!$G$2:$G$641,'DETAIL 2020'!$A$2:$A$641,">5999",'DETAIL 2020'!$A$2:$A$641,"<7000") -> 247150660 | F12: =C12/$F$2 -> 247.15066
B13: VÝDAJE CELKEM | C13: =SUM(C10,C12) -> 1023409955 | F13: =C13/$F$2 -> 1023.41
B15: PŘEBYTEK/SCHODEK | C15: =C7-C13 -> -135493673 | F15: =C15/$F$2 -> -135.49367

Sheet DETAIL 2020
A1: Finanční položka | B1: Kapitola | C1: Akce | D1: Číslo prvku | E1: Název prvku | F1: Popis prvku | G1: R 20 08/2020
A2: 1211 | B2: 741 - OE | C2: Daňové příjmy | D2: 33 | E2: Daň z přidané hodnoty | F2: Daň z přidané hodnoty | G2: 256000000
A3: 1111 | B3: 741 - OE | C3: Daňové příjmy | D3: 28 | E3: Daň ze závislé činnosti | F3: Daň z příjmů fyzických osob placená plátci | G3: 130000000
A4: 8115 | B4: 741 - OE | C4: Navýšení financování | D4: 673 | E4: Zapojení zůstatku finančních prostředků | G4: 107911023
A5: 1121 | B5: 741 - OE | C5: Daňové příjmy | D5: 31 | E5: Daň z příjmů právnických osob | F5: Daň z příjmů právnických osob | G5: 107000000
A6: 5011 | B6: 719 - OVV | C6: Činnost místní správy | D6: 182 | E6: Platy zaměstnanců | F6: Platy zaměstnanců v pracovním poměru | G6: 92400000
A7: 4116 | B7: 741 - OE | C7: Transfery | D7: 1830 | E7: Předpoklad | F7: V mil. Kč SPOD 10, výkon SP 8, CSZS 36, OŘPD město + ŠŠZ 15 + DAD 3 + KJD 1,6 + ŠŠZ 8,4 | G7: 82000000
A8: 5331 | B8: 739 - TS | C8: Příspěvky zřizovatele | D8: 546 | E8: Neinvestiční příspěvek | G8: 76402741
A9: 2132 | B9: 792 - FOVM | C9: Nedaňové příjmy | D9: 3753 | E9: Vodovody a kanalizace - nájemné | F9: Nájemné dle uzavřené Smlouvy o pronájmu a komplexním provozování infrastrukturního majetku masta Příbram ze dne 13.2.2004 mezi městem Příbram a 1. SčV, a. s. | G9: 59308150
A10: 4112 | B10: 741 - OE | C10: Transfery | D10: 23 | E10: Neinvetiční dotace SR | F10: Neinvestiční přijaté transfery ze státního rozpočtu v rámci souhrnného dotačního vztahu | G10: 52000000
A11: 6121 | B11: 786 - OIRM | C11: Rekonstrukce AQUAPARKU | F11: Kompletní rekonstrukce Aquaparku, autorský dozor projektanta, správce stavby (předpoklad čerpání úvěru). Projektová dokumentace již zpracována. | G11: 50000000
A12: 5331 | B12: 787 - CSZS | C12: Příspěvky zřizovatele | D12: 3475 | E12: Neinvestiční příspěvek od zřizovatele | G12: 38715000
A13: 5901 | B13: 787 - CSZS | C13: Transfery neinvestiční | E13: Předpoklad | F13: KÚ, OPZ | G13: 36000000
A14: 1511 | B14: 741 - OE | C14: Daňové příjmy | D14: 47 | E14: Daň z nemovitých věcí | F14: Daň z nemovitých věcí | G14: 36000000
A15: 5331 | B15: 778 - DAD | C15: Příspěvky zřizovatele | D15: 522 | E15: Neinvestiční příspěvek - divadlo | G15: 32550000
A16: 5193 | B16: 789 - SOSH | C16: Dopravní obslužnost | D16: 3655 | E16: Dotace MHD | F16: Vyrovnáíní 2019 2.600.000,00 Kč, zálohy dotací 2020 26.400.000,00 Kč | G16: 29000000
A17: 5331 | B17: 781 - SZM | C17: Příspěvky zřizovatele | D17: 548 | E17: Neinvestiční příspěvky | G17: 28000000
A18: 5031 | B18: 719 - OVV | C18: Činnost místní správy | D18: 184 | E18: Sociální pojištění | F18: 24,8 % z vyplacených mezd, OON, ošatného | G18: 23300000
A19: 5011 | B19: 717 - MP | C19: Provozní výdaje MP | D19: 69 | E19: Platy zaměstnanců | F19: 43 strážníků + 5% navýšení (2strážníci doplnění 2019) + 1 administrativa + 1APK + nová 4x obsluha MKDS | G19: 22140000
A20: 1385 | B20: 741 - OE | C20: Daňové příjmy | D20: 4634 | E20: Dílčí daň z technických her | F20: Převod daně dle § 7 odst. 1 písm. b) z. č. 187/2016 Sb. - 65 % (sdílená daň převáděná Specializovaným finanč. úřadem, předč. 9822) | G20: 21000000
A21: 6130 | B21: 790 - FOP | C21: Kapitálové výdaje | D21: 3758 | E21: Výkup pozemků (FOP) | F21: Schválené záměry výkupu: p. Melichar výkup pozemku p.č. 4407/2 k.ú. Příbram 10.250,00 Kč, parkoviště Ryneček 120.200,00 Kč, Státní statek Jeneč, s.p. v likvidaci výkup p.č. 801/1,k.ú. Lazec 6.776,00 Kč, p. Halmoši výkup části pozemku p. č. 515/199 203.000,00 Kč. V řešení: ČR UZSVM výkup pozemků p. č. 677/6, 677/7 k. ú. Bř. Hory 18.000,00 Kč, výkup pozemku hřbitov 811.200,00 Kč, DIAMO s.p,. výkup pozemků p.č. 715/105 Březové Hory (dopravní hřiště) 1.611.000,00 Kč, výkup pozemků p.č. 4219/1, 4219/109, k.ú. Příbram 11.519.000,00 Kč, výkup pozemků p.č. 515/208, 515/209 k.ú. Březové Hory 2.000,00 Kč, skládka Bytíz 11.000.000,00 Kč, Doubková 80.500,00 Kč, výkup pozemků Nová Hospoda cca 2.900.000,00 Kč, garáže Rožmitálská (vypořádání s vlastníky) 90.000,00 Kč, GONURA PROPERTY s.r.o. 1.581.190,00 Kč, Ing. Holý výkup pozemků k.ú. Příbram a Zdaboř 1.000,00 Kč, Arcona Capitals směna za komunikace 83.000,00 Kč, OC Nová Zdaboř křižovatka 5.000,00 Kč, SŽDC IN line dráha 644.500,00 Kč, pozemek ČD pod Kauflandem 560.000,00 Kč, Havrlíkovi u dráhy 150.000,00 Kč, pí Čížková, pí Novotná hřbitov Pichce 2.814.000,00 Kč, výkup pozemků na halu pro TS od p. Borovičky p.č. 3104/1 k.ú. Příbram 1.075.200,00 Kč, TON ART p.č. 3097/3, 3103/9, 3103/14 k.ú. Příbram 3.848.640,00 Kč. Zelená páteř: p.Landa 280.000,00 Kč. Požadavky OIRM: cyklostezka Žežice 175.000,00 Kč, parkovací dům Ryneček 639.400,00 Kč (+120.200,00 Kč schválené), SŽDC 2503/6, k.ú. Příbram 13.000,00 Kč, další plánované investiční výstavby (cyklostezky, dopravní napojení průmyslové zóny, atletický stadion u ZŠ Školní) 2.000.000,00 Kč. | G21: 20000000
A22: 6121 | B22: 786 - OIRM | C22: Domov seniorů, Žežická ul. - Příbram VII | F22: Realizace domova seniorů v Příbrami VII - Žežická ul. Kapacita 20 lůžek. Součástí stavby je i realizace parkoviště. Dokončení stavby v roce 2021. | G22: 20000000
A23: 5331 | B23: 739 - TS | C23: Příspěvky zřizovatele | D23: 1340 | E23: Neinvestiční příspěvek - likvidace KO | G23: 18083100
A24: 6121 | B24: 786 - OIRM | C24: Komunikace Orlov – Hájetina | D24: 4230 | E24: Realizace stavby | F24: Dokončení 40 % místní komunikace (stavební povolení z roku 2005 – nezkolaudováno). Realizace veřejného osvětlení, zkapacitnění VH sítí a úprava stávající komunikace a odvodnění komunikace. Nutno upravit i stávajících 60 % komunikace. | G24: 18000000
A25: 1340 | B25: 741 - OE | C25: Daňové příjmy | D25: 1140 | E25: Poplatek za provoz systému shromažďování, sběru, přepravy, třídění, využívání a odstraňování komunálních odpadů | F25: Poplatek za provoz systému shromažďování, sběru, přepravy, třídění, využívání a odstraňování komunálních odpadů | G25: 17300000
A26: 5901 | B26: 788 - ŠŠZ | C26: Transfery neinvestiční | E26: Předpoklad | F26: Inkluze, šablony atd. | G26: 17100000
A27: 5331 | B27: 780 - KJD | C27: Příspěvky zřizovatele | D27: 528 | E27: Neinvestiční příspěvky | G27: 14850000
A28: 5171 | B28: 792 - FOVM | C28: VDJ Husa - dokončení rekonstrukce | D28: 3828 | E28: Oprava vodojemu Husa - dokončení rekonstrukce | F28: Dokončení zbývajících částí rekonstrukce dle aktualizované PD (10.900.000,00 Kč). Úprava a doplnění řídícího systému a telemetrické zařízení (300.000,00 Kč). Doplnění zabezpečovacího systému na PCO (120.000,00 Kč). | G28: 13697200
A29: 3111 | B29: 790 - FOP | C29: Kapitálové příjmy | D29: 3757 | E29: Prodej pozemků (FOP) | F29: Schváleno: pí. Petáková poz. p. č. 110 k. ú. Zavržice 16.180,00 Kč. V řešení: p. Šach část p. č. 338/2, k.ú. Háje 221.060,00 Kč, ASORT s.r.o. část p. č. 338/2, k.ú. Háje 25.000,00 Kč, pí Misterková část p.č. 1172/1, k.ú. Podlesí nad Litavkou 2.250,00 kč, MUDr. Brodníček část p.č .754/1, k.ú. Lazec 34.970,00 Kč, Ing. Kratochvíl, Ing. Onderková p.č. 28/50, k.ú. Zdaboř 378.010,00 Kč, Ing. Karasová směna k.ú. Březové Hory 65.086,00 Kč, PhDr. Traxler část p.č. 1504, k.ú. Příbram 39.689,00 Kč, Ing. Král p. č. 1373/4, k.ú. Příbram 34.480,00 Kč, p. Míka k.ú. Příbram (býv. Eurotel) 250.000,00 Kč, Škudrnovi k.ú. Příbram 192.500,00 Kč, PRORESTA p.č. 3737/2 a 3740, k.ú. Příbram 2.703.470,00 Kč, ŘSD kruhový objezd I/66, k.ú. Příbram 6.184.500,00 Kč, Domov Maják k.ú. Příbram 285.000,00 Kč. V případě prodeje budov: Pozemky Příbram I/346 (býv. Hamiro) 1.700.000,00 Kč, pozemky Příbram IV/145 1.380.155,00 Kč. | G29: 13512350
A30: 6121 | B30: 786 - OIRM | C30: Parkovací stání, ul. Gen. Kholla | D30: 4238 | E30: Parkovací stání - ul. Gen. Kholla, Příbram VII | F30: Rozšíření parkovacích ploch v ul. Gen. Kholla a okolí (v r. 2019 bude zpracována PD) + přeložka kabelů ČEZ Distribice, a.s. (1.200.000,00 Kč). | G30: 13200000
A31: 8115 | B31: 792 - FOVM | C31: Financování FOVM | D31: 3746 | E31: Financování snížení +/navýšení - | G31: 12400000
A32: 5362 | B32: 792 - FOVM | C32: Platby DPH z FOVM | D32: 4647 | E32: Platby daní a poplatků | F32: Přenesená daňová povinnost DPH. | G32: 12400000
A33: 5171 | B33: 749 - MěRK | C33: Byty | D33: 484 | E33: Opravy a udžování | F33: PB I/15-18 výměna stoupaček 1.400.000,00 Kč; PB I/69 - 22 bytů 5.100.000,00 Kč; PB I/101 malování 50.000,00 Kč, výměna oken v bytech 50.000,00 Kč; PB III/143 rekonstrukce koupelny (5 bytů) 1.150.000,00 Kč, PB IV/5 byty zed. opravy 300.000,00 Kč, výměna top. těles 500.000,00 Kč; PB VII/193 výměna plyn. kotle 70.000,00 Kč, PB VIII/100-102 oprava koupelen a WC 1.000.000,00 Kč; PB III/100/17 250.000,00 Kč; Vodoměry 516.000,00 Kč; Ostatní opravy 2.000.000,00 Kč. | G33: 12386000
A34: 5171 | B34: 792 - FOVM | C34: Rezerva na zachování provozuschopnosti systému | D34: 3832 | E34: Rezerva | F34: 20 % z výše nájemného na rok 2020 - prostředky k hrazení mimořádných výdajů na zajištění provozuschopnosti systémů dle čl. 9.6 smlouvy o pronájmu a komplexním provozování infrastrukturního majetku města Příbrami ze dne 13.02.2004. | G34: 11861630
A35: 1113 | B35: 741 - OE | C35: Daňové příjmy | D35: 30 | E35: Daň vybírána srážkou | F35: Daň z příjmů fyzických osob vybíraná srážkou | G35: 11000000
A36: 6121 | B36: 786 - OIRM | C36: Revitalizace sídliště CÍL | D36: 4552 | E36: Realizace stavby | F36: DPS zpracovává Ing. Kabátník-ASPIRA Příbram, termín odevzdání DPS do 18.10.2018. Dotace ze SFRB max. 50 %, max. 6 mil. Kč. | G36: 10500000
A37: 6121 | B37: 786 - OIRM | C37: Úprava hlediště Divadla A.Dvořáka | D37: 4234 | E37: Hlediště | F37: Úprava hlediště Divadla A. Dvořáka. Realizace betonových stupňů, nouzové osvětlení, výmalba, nová sedadla. Nové betonové stupně a nové sedačky. PD byly zpracována v r. 2018). | G37: 10500000
A38: 2132 | B38: 749 - MěRK | C38: Byty | D38: 18 | E38: Nájem byty | F38: Návrh vychází z předpisu na rok 2019 za nájemné v bytech v majetku Města Příbram - jedná se o byty, které jsou v bytových domech v majetku Města Příbram. | G38: 10500000
A39: 1361 | B39: 741 - OE | C39: Daňové příjmy | D39: 847 | E39: Registr vozidel | F39: Správní poplatky - Dopravní úřad | G39: 10460000
A40: 5171 | B40: 792 - FOVM | C40: Komenského náměstí - obnova vodohospodářských sítí | D40: 4573 | E40: Příbram III, Komenského náměstí - výměna vodohospodářských sítí | F40: Výměna VH sítí v souvislosti s rekonstrukcí komunikací. | G40: 9425900
A41: 2132 | B41: 785 - OSM | C41: Ostatní nedaňové příjmy | D41: 3390 | E41: Nájem nebyty | F41: Nebytové prostory ve správě OSM dle uzavřených nájemních smluv. | G41: 9185000
A42: 5901 | B42: 719 - OVV | C42: Transfery neinvestiční | E42: Předpoklad | F42: Chytrá Příbram, Efektivní úřad 2. etapa, MAP II ORP PB, Inkluze atd. | G42: 8500000
A43: 5032 | B43: 719 - OVV | C43: Činnost místní správy | D43: 185 | E43: Zdravotní pojištění | F43: 9 % z vyplacených mezd, OON, ošatného | G43: 8455000
A44: 6121 | B44: 749 - MěRK | C44: Byty | D44: 3571 | E44: Technické zhodnocení | F44: PB I/69 - SO2, fasáda, lodžie, střecha - část - 6.000.000,00 Kč, TDI 40.000,00 Kč; PB IV/5 bybudování nových buněk 800.000,00 Kč, PB VI/155 modernizace zařízení kotelny 1.230.000,00 Kč. | G44: 8070000
A45: 5168 | B45: 721 - OIT | C45: Provozní výdaje OIT | D45: 3117 | E45: Zpracování dat a služby související | F45: Nastavení a zabezpečení sítě a serverů 350 000 Kč Další nenasmlouvané práce 265 046 Kč Pronájem TC 2 000 000 Kč Bezpečnostní politika + dokumentace 150 000 Kč Aktualizace a podpora programů celkem 5 269 472 Kč zasílání krizových sms 100 000 Kč Marbes - upgrade Navision 711 480 Kč YAMACO 9 520 Kč Kvasar 7 140 Kč Marbes PROXIO 570 000 Kč Vita 139 120 Kč GEPRO 236 291 Kč InternetPb - www 405 108 Kč podpora TC 407 664 Kč Sodat 26 775 Kč aktualizace GIS Kompas (SOSH) 200 000 Kč podpora Windomy SQL 188 000 Kč Inisoft 25 490 Kč ICZ - eSpis 150 000 Kč aktualizace ROB (Marbes) 76 230 Kč Autocont - podpora IOP22 148 236 Kč ICZ podpora úřední desky 7 000 Kč podpora systémů z výzvy 28 1 504 091 Kč maintenance AutoCad 7 139 Kč MP Manager 250 000 Kč provoz portálu parkování MPLA 100 188 Kč | G45: 8034518
A46: 6121 | B46: 792 - FOVM | C46: Příbram I - průmyslová zóna Balonka - rekonstrukce řadu DN 150-250 | D46: 1747 | E46: PB I - Balonka - zkapacitnění vodovodního řadu DN 150 | F46: Zkapacitnění potrubí DN 150 za DN 250 včetně rekonstrukce armaturní šachty (byla zpracována projektová dokumentace na 1. etapu stavby). | G46: 7865000
A47: 5171 | B47: 786 - OIRM | C47: Základní školy | D47: 3872 | E47: Opravy a udržování | F47: ZŠ Školní - oprava WC dívky a chlapci. | G47: 7000000
A48: 5660 | B48: 795 - FOZ | C48: Běžné výdaje - Fond zápůjček | D48: 4403 | E48: Plánované neinvestiční zápůjčky obyvatelstvu | F48: Neinvestiční půjčené prostředky obyvatelstvu | G48: 6997500
A49: 5362 | B49: 741 - OE | C49: Ostatní | D49: 615 | E49: Platby daní a poplatků | F49: Platby DPH, za odnětí zemědělské půdy | G49: 6900000
A50: 3112 | B50: 785 - OSM | C50: Příjmy z prodeje nebytových prostor | D50: 3531 | E50: Příjmy z prodeje nebytových prostor | F50: PB I/346 (býv. HAMIRO) 1.870.000,00 Kč, Příbram IV/145 4.760.046,00 Kč. | G50: 6630046
A51: 5901 | B51: 777 - OŠKS | C51: Programové dotace | D51: 3466 | E51: Podpora-VRCHOLOVÝ A VÝKONNOSTNÍ SPORT | F51: Dotace poskytnuté na základě vyhlášeného programu a Pravidel pro poskytování dotací a NFV z rozpočtu města Příbram č.2/2018. | G51: 6600000
A52: 5152 | B52: 785 - OSM | C52: Základní školy | D52: 3272 | E52: Teplo VS 5, VS G | F52: VS 5 (7. ZŠ, školní jídelna, areál býv. 5. územních jeslí = MŠ, Alternativní MŠ, MUDr. Štrobachová, GYMAT, s.r.o, Cygy, s.r.o., GYNASE, s.r.o., Pramaz, Péče, s.r.o, Diagnostický ústav, Divadlo PB sklad) 4.000.000,00 Kč, VS G (6. ZŠ, MŠ, školní jídelna, Dětské skupiny a rehabilitační stacionář) 2.600.000,00 Kč. | G52: 6600000
A53: 8115 | B53: 790 - FOP | C53: Financování | D53: 3842 | E53: Financování snížení +/navýšení - | G53: 6487650
A54: 6121 | B54: 792 - FOVM | C54: Vodovod Orlov - rekonstrukce a zkapacitnění výtlačného řadu z VDJ Kozičín do VDJ Orlov | F54: Výměna řadu a zvětšení dimenze z VDJ Kozičín do VDJ Orlov v celé délce včetně souvisejících opatření. | G54: 6014670
A55: 6121 | B55: 786 - OIRM | C55: Junior klub | D55: 3858 | E55: Realizace stavby | F55: Dokončení rekonstrukce objektu. | G55: 6000000
A56: 6122 | B56: 717 - MP | C56: Investiční výdaje MP | D56: 92 | E56: Stroje, přístroje, zařízení | F56: Rozšíření MKDS o 4-6 kamerových bodů, 2x Zeus, 2x úsekový měřič rychlosti nebo 1x mobilní zařízení, dohledové centrum MKDS, ústředna linka 156, 3x PC stálá služba, přestupky a DERIC, 3 ks kamer do služebních vozidel | G56: 5650000
A57: 1333 | B57: 741 - OE | C57: Daňové příjmy | D57: 2723 | E57: Poplatky za uložení odpadů | F57: Poplatky za uložení odpadů | G57: 5520000
A58: 2212 | B58: 741 - OE | C58: Nedaňové příjmy | D58: 4564 | E58: Pokuty - radar Bohutín | F58: Sankční platby přijaté od jiných subjektů | G58: 5500000
A59: 5031 | B59: 717 - MP | C59: Provozní výdaje MP | D59: 70 | E59: Sociální pojištění | F59: 43 strážníků + 5% navýšení (2strážníci doplnění 2019) + 1 administrativa + 1APK + nová 4x obsluha MKDS | G59: 5490720
A60: 6331 | B60: 739 - TS | C60: Příspěvky zřizovatele | D60: 547 | E60: Investiční příspěvek | G60: 5000000
A61: 6121 | B61: 786 - OIRM | C61: Rezerva na kapitálové výdaje | D61: 3598 | E61: Rezerva | F61: Rezerva na kapitálové výdaje. | G61: 5000000
A62: 6121 | B62: 786 - OIRM | C62: Propojení administrativních budov optickými kabely | F62: Propojení všech budov MěÚ příbram optickými kabely. Součástí je i oprava chodníků v trase. Povrch dle památkové péče v mozaikové dlažbě. | G62: 5000000
A63: 6121 | B63: 786 - OIRM | C63: Čekalikovský rybník | F63: Revitalizace Čekalikovského rybníka. Jedná se o práce pouze na rybníku (odbahnění, břehy, nátok...) nikoliv okolí, to bude řešeno samostatnou akcí (v plánu na rok 2021). | G63: 5000000
A64: 5901 | B64: 777 - OŠKS | C64: Programové dotace | D64: 3467 | E64: Podpora-ČINNOST SPORTOVNÍCH ORGANIZACÍ | F64: Dotace poskytnuté na základě vyhlášeného programu a Pravidel pro poskytování dotací a NFV z rozpočtu města Příbram č.2/2018. | G64: 5000000
A65: 5171 | B65: 789 - SOSH | C65: Opravy a údržba | D65: 4541 | E65: Opravy mostů | F65: zatím nespecifikováno | G65: 5000000
A66: 8115 | B66: 795 - FOZ | C66: Financování | D66: 4404 | E66: Financování snížení +/navýšení - | G66: 4995000
A67: 5023 | B67: 719 - OVV | C67: Místní zastup. orgány | D67: 205 | E67: Odměny členům zastupitelstva | F67: Odměny členům ZM | G67: 4860000
A68: 6121 | B68: 786 - OIRM | C68: Deponie TS - průmyslová zóna | D68: 4584 | E68: Realizace stavby | F68: Zřízení a zpevnění plochy v průmyslové zóně. Požadavek TS. | G68: 4500000
A69: 6121 | B69: 786 - OIRM | C69: Domácí ČOV - Zavržice | D69: 4547 | E69: Domácí ČOV Zavržice | F69: Domácí ČOV pro 12 objektů v obci Zavržice. Předpoklad dotace z MZe ve výši max. 80 % z celkových způsobilých výdajů. | G69: 4400000
A70: 5331 | B70: 788 - ŠŠZ | C70: Příspěvek od zřizovatele | D70: 107 | E70: ZŠ pod Svatou Horou - neinvestiční příspěvek | F70: Balbínova 328, Příbram II | G70: 4260000
A71: 5331 | B71: 788 - ŠŠZ | C71: Příspěvek od zřizovatele | D71: 915 | E71: ZŠ 28. října - neinvestiční příspěvek | F71: 28. října 1, Příbram VII | G71: 4200000
A72: 6121 | B72: 792 - FOVM | C72: Orlov - řešení nevyhovujících tlakových poměrů | D72: 3835 | E72: Orlov - řešení nevyhovoujících tlakových poměrů v osadě | F72: Závazek z r. 2019 - osazení čerpací stanice, zřízení přívodu el. energie. V roce 2020 dokončení ATS. | G72: 4150300
A73: 5171 | B73: 786 - OIRM | C73: Nebytové prostory | D73: 3874 | E73: Opravy a udržování | F73: Oprava hřbitovní zdi a chodníku na březohorském hřbitově. | G73: 4000000
A74: 2131 | B74: 785 - OSM | C74: Ostatní nedaňové příjmy | D74: 58 | E74: Nájem pozemky - běžný rok | F74: Pronájem pozemků dle uzavřených smluv, v tom: pronájem lesů ML 1.500.000,00 Kč, ostatní 2.300.000,00 Kč. | G74: 3800000
A75: 5169 | B75: 719 - OVV | C75: Činnost místní správy | D75: 195 | E75: Nákup ostatních služeb | F75: Státní tiskárna cenin, úklidové práce, certifikáty ČP, skartace, stravenky, přístupy k aplikacím, poplatky ČR,ČT,UPC,DEKRA, služby na objednávku - stěhování | G75: 3700000
A76: 5011 | B76: 749 - MěRK | C76: Provoz MěRK | D76: 494 | E76: Platy | G76: 3700000
A77: 5331 | B77: 788 - ŠŠZ | C77: Příspěvek od zřizovatele | D77: 914 | E77: ZŠ Jiráskovy sady - neinvestiční příspěvek | F77: Jiráskovy sady 273, Příbram II | G77: 3650000
A78: 8115 | B78: 794 - FS | C78: Financování | D78: 3844 | E78: Financování snížení +/navýšení - | G78: 3600000
A79: 5499 | B79: 794 - FS | C79: Běžné výdaje - Sociální fond | D79: 3583 | E79: Příspěvek dle Směrnice č. 4/2005 | F79: Ostatní neinvestiční transfery zaměstnancům ze Sociálního fondu | G79: 3600000
A80: 2111 | B80: 741 - OE | C80: Nedaňové příjmy | D80: 4066 | E80: Odměna za zajištění zpětného odběru a využití odpadů z obalů - EKO-KOM | F80: Příjmy z poskytování služeb a výrobků | G80: 3600000
A81: 5331 | B81: 788 - ŠŠZ | C81: Příspěvek od zřizovatele | D81: 918 | E81: Waldorfská škola (MŠ, ZŠ, SŠ) - neinvestiční příspěvek | F81: Hornická 327, Příbram II | G81: 3550000
A82: 5171 | B82: 789 - SOSH | C82: Opravy a údržba | D82: 3744 | E82: Souvislé opravy MK | F82: OV Kozičín - výspravy komunikací 1.000.000,00 Kč, OV Březové Hory - Pod Kovárnami 250.000,00 Kč, Na Leštině + okolí 2.500.000,00 Kč, Čechovská 1.500.000,00 Kč, OV Jesenice - oprava komunikace 500.000,00 Kč, OV Březové Hory - Nad Litavkou 300.000,00 Kč, Mánesova 1.000.000,00 Kč,Březohorská 1.000.000,00 Kč, Jiráskovy sady - parkoviště 200.000,00 Kč, Jana Drdy 2.450.000,00 Kč, | G82: 3450000
A83: 5169 | B83: 785 - OSM | C83: Nebytové prostory | D83: 3284 | E83: Ostatní služby | F83: Úklid WC Obora 60.000,00 Kč, revize elektriky, plynu a hromosvodu ve volných nebyt. prostorech Příbram I/1, IV/145, VII/400 - 15.000,00 Kč, elektrická požární signalizace Příbram VII/400 - 7.000,00 Kč, revize elektriky a plynu, kontrola spalinových cest, odborné prohlídky, revize TNS, roční kontroly kotlů v Příbrami I/1, III/163, VII/400, PB VIII/75 (VS Školní ul.), Žežice - 45.000,00 Kč, revize SEHAZ (PB I/1, III/163, IV/145, VII/400, Žežice) 15.000,00 Kč, zpracování dokumentace skutečného provedení stavby 250.000,00 Kč, zpracování energetických posudků pronajímaných budov a energetických štítků 700.000,00 Kč, deratizace a dezinsekce 15.000,00 Kč, vyklizení budov 50.000,00 Kč, platba za rozvaděč Nízkoprahové centrum Ryneček 1.000,00 Kč, pasport veřejného osvětlení 1.200.000,00 Kč, pasport elektroinstalace budov 500.000,00 Kč, výměně podružných měřičů tepla na PB VIII/131-147 - 250.000,00 Kč, Energetický management - dálkové odečty a analýzy spotřeb energií v objektech 300.000,00 Kč. | G83: 3408000
A84: 5331 | B84: 788 - ŠŠZ | C84: Příspěvek od zřizovatele | D84: 917 | E84: ZŠ Školní - neinvestiční příspěvek | F84: Školní 75, Příbram VIII | G84: 3320000
A85: 2212 | B85: 741 - OE | C85: Nedaňové příjmy | D85: 1852 | E85: Pokuty DÚ | F85: Sankční platby přijaté od jiných subjektů | G85: 3300000
A86: 5901 | B86: 723 - OŽP | C86: Ochrana přírody, lesní a vodní hospoodářství | E86: Projektová rezerva | F86: Zpracování plánu ÚSES pro ORP Příbram (přidělena dotace) - 297 900,00 Kč Pasport a inventarizace zeleně (přidělena dotace) - 2 000 000,00 Kč Revitalizace zeleně (bude se žádat o dotaci) - 1 000 000,00 Kč | G86: 3297900
A87: 5331 | B87: 788 - ŠŠZ | C87: Příspěvek od zřizovatele | D87: 913 | E87: ZŠ Březové Hory - neinvestiční příspěvek | F87: Prokopská 337, Příbram VI - Březové Hory | G87: 3100000
A88: 6121 | B88: 786 - OIRM | C88: Parkování vnitrobloky | D88: 3346 | E88: Investiční projektové dokumentace | F88: Projektová dokumentace - realizace nových parkovacích ploch ve vnitroblocích dle návrhu samostatného oddělení silničního hospodářství . | G88: 3000000
A89: 5171 | B89: 786 - OIRM | C89: Nebytové prostory | D89: 3874 | E89: Opravy a udržování | F89: Příbram VII/400 - Kulturní dům - rekonstrukce rozvodny elektřiny. | G89: 3000000
A90: 5171 | B90: 786 - OIRM | C90: Základní školy | D90: 3872 | E90: Opravy a udržování | F90: ZŠ Březové Hory - výměna střešní krytiny budovy č.p. 337. | G90: 3000000
A91: 5901 | B91: 778 - DAD | C91: Transfery neinvestiční | E91: Předpoklad | F91: MK, KÚ | G91: 3000000
A92: 1381 | B92: 741 - OE | C92: Daňové příjmy | D92: 3923 | E92: Daň z hazardních her - 30 % | F92: Převod daně dle § 7 odst. 4 písm. b) z. č. 187/2016 Sb. - 30 % (sdílená daň převáděná Specializovaným finanč. úřadem, předč. 9814) | G92: 3000000
A93: 1112 | B93: 741 - OE | C93: Daňové příjmy | D93: 29 | E93: Daň z příjmů fyzických osob | F93: Daň z příjmů fyzických osob placená poplatníky | G93: 3000000
A94: 5331 | B94: 779 - GFD | C94: Příspěvky zřizovatele | D94: 533 | E94: Neinvestiční příspěvky | G94: 2980000
A95: 6121 | B95: 786 - OIRM | C95: Hasičská zbrojnice Březové Hory, Příbram VI | F95: Stavební úpravy objektu (podána žádost o dotaci). | G95: 2800000
A96: 5171 | B96: 789 - SOSH | C96: Opravy a údržba | D96: 3657 | E96: Oprava a údržba komunikací | F96: Výspravy MK po zimě 2.000.000,00 Kč, opravy a údržba součástí a příslušenství MK 800.000,00 Kč | G96: 2800000
A97: 2132 | B97: 749 - MěRK | C97: Byty | D97: 19 | E97: Nájem byty v prodaných domech | F97: Návrh vychází z předpisu na rok 2019 za nájem a služby za byty v prodaných domech. | G97: 2800000
A98: 6121 | B98: 786 - OIRM | C98: Sběrný dvůr - Rozšíření zpevněné plochy kompostárny | D98: 4504 | E98: Realizace stavby | F98: Rozšíření plochy kompostárny pro skladování kompostu u ČOV. Požadavek TS. | G98: 2500000
A99: 6121 | B99: 786 - OIRM | C99: Bezbariérová trasa ke Kulturnímu domu Příbram | F99: V rámci realizace bezbariérového přístupu do divadla (výtah) musí být realizována i trasa (úprava chodníku ul. Tř. Osvobození a Tylova). | G99: 2500000
A100: 5171 | B100: 786 - OIRM | C100: Základní školy | D100: 3872 | E100: Opravy a udržování | F100: ZŠ 28.října 1 - oprava WC chlapci (4x) a WC pro učitele. | G100: 2500000
...

Sheet Projekty nad 10mil
A1: Kapitola | B1: Akce | C1: Fin pol | D1: Popis prvku | E1: =VYHLED!H1 -> 2021 | F1: =VYHLED!I1 -> 2022 | G1: =VYHLED!J1 -> 2023 | H1: =VYHLED!K1 -> 2024 | I1: Další roky
A2: 786 - OIRM | B2: Komunikace u průmyslové zóny na Jineckou | C2: 6121 | D2: Příjezdová komunikace k průmyslové zóně | E2: 30000000
A3: 786 - OIRM | B3: Parkovací dům - AN | C3: 6121 | D3: Realizace parkovacího domu u autobusového nádraží. | F3: 35000000 | G3: 30000000
A4: 785 - OIRM | B4: Parkovací dům - Sídliště - ul. Ve Dvoře | C4: 6120 | D4: Realizace parkovacího domu - Sídliště - ul. Ve Dvoře | I4: 120000000
A5: 786 - OIRM | B5: Parkovací dům - Ryneček | C5: 6121 | D5: Realizace parkovacího domu na Rynečku. | I5: 80000000
A6: 786 - OIRM | B6: Parkování Fialka | D6: cca 80 nových parkovacích míst u křižáku naproti Albertu | F6: 10000000
A7: 786 - OIRM | B7: Mixova | I7: 30000000
A8: 786 - OIRM | B8: Flusárna záchytné parkoviště | E8: 10000000
A9: 786 - OIRM | B9: Aquapark | C9: 6121 | D9: Kompletní rekonstrukce Aquaparku | E9: 200000000 | F9: 190000000
A10: 786 - OIRM | B10: Atletický stadion | C10: 6121 | D10: Atletický stadion u ZŠ Školní (odhad nákladů 70 mil. Kč, 50% dotace) | I10: 40000000
A11: 787 - OIRM | B11: sportovní haly a telocvičny | I11: 100000000
A12: 786 - OIRM | B12: Kulturní dům Příbram - rekonstrukce malé scény | C12: 6121 | D12: Kompletní rekonstrukce malé scény Divadla A. Dvořáka. | H12: 30000000
A13: 786 - OIRM | B13: Čekalíkovský rybník a okolí | C13: 6121 | D13: Revitalizace Čekalíkovského rybníka a okolí | E13: 15000000 | F13: 15000000
A14: 786 - OIRM | B14: Domov seniorů, Příbram VII | C14: 6121 | D14: Realizace domova seniorů, který vznikne přestavbou bývalé školní jídelny (8.ZŠ). Kapacita objektu je 20 lůžek. Součástí je i vybudování parkoviště. | E14: 10000000
A15: 749 - MěRK | B15: Byty | C15: 6121 | D15: PB I/69 - SO 02: fasáda, lodžie, střecha | E15: 12790000
B16: Rekonstrukce bývalé Rudné doly | I16: 60000000
B17: Kanalizace Lazec Kozičín | E17: 25000000 | F17: 70000000
A18: 786 - OIRM | B18: Parkování vnitrobloky | C18: 6121 | E18: 6000000 | F18: 6000000 | G18: 6000000 | H18: 6000000
A19: 786 - OIRM | B19: Veřejné osvětlení | F19: 5000000 | G19: 5000000
A20: 786 - OIRM | B20: Základní školy | C20: 5171 | D20: ZŠ pod Svatou Horou, Balbínova 328, Příbram II - výměna prosklených stěn tělocvičen, vrátnice, kantýny a vestibulu školy | G20: 7000000 | H20: 7000000
A21: 786 - OIRM | B21: Základní školy | C21: 5171 | D21: ZŠ Školní - výměna rozvodů vody | I21: 7000000 | J21: 7000000
A22: 786 - OIRM | B22: Střední školy | C22: 5171 | D22: SZŠ a VOŠ Příbram, Jiráskovy sady 113, Příbram - výměna vodovodního a teplovodního potrubí | I22: 5000000 | J22: 5000000
A23: 789 - SOSH | B23: Opravy a údržba | C23: 5171 | D23: opravy mostů | E23: 3000000 | F23: 3000000 | G23: 3000000 | H23: 3000000 | I23: 3000000
E25: =SUM(E2:E23) -> 311790000 | F25: =SUM(F2:F23) -> 334000000 | G25: =SUM(G2:G23) -> 51000000 | H25: =SUM(H2:H23) -> 46000000 | I25: =SUM(I2:I23) -> 445000000 | J25: =SUM(J2:J23) -> 12000000

Sheet VYHLED
A1: ROZPOČTOVÝ VÝHLED 2021-24 | E1: Skutečnost 31.12.2018 | F1: Oček. Skut. 2019 | G1: 2020 | H1: =G1+1 -> 2021 | I1: =H1+1 -> 2022 | J1: =I1+1 -> 2023 | K1: 2024
A2: číslo řádku | E2: včetně fondů | F2: včetně fondů
A3: 1 | B3: Počáteční stav hotovosti | F3: =E82 -> 251 | G3: =F82 -> 250 | H3: =G82 -> 114.61628 | I3: =H82 -> 83.133991 | J3: =I82 -> 96.894995 | K3: =J82 -> 76.941015
A4: 2
A5: 3 | B5: Příjmy
A6: 4 | D6: Daňové příjmy | E6: 582 | F6: 617.7 | G6: =SUMIFS('DETAIL 2020'!$G$2:$G$641,'DETAIL 2020'!$A$2:$A$641,">999",'DETAIL 2020'!$A$2:$A$641,"<2000")/$E$90 -> 612.798 | H6: =G6*$E$86 -> 634.24593 | I6: =H6*$E$86 -> 656.44454 | J6: =I6*$E$86 -> 679.4201 | K6: =J6*$E$86 -> 703.1998
A7: 5 | D7: Nedaňové příjmy | E7: 81 | F7: 78 | G7: =SUMIFS('DETAIL 2020'!$G$2:$G$641,'DETAIL 2020'!$A$2:$A$641,">1999",'DETAIL 2020'!$A$2:$A$641,"<3000")/$E$90 -> 120.97589 | H7: =G7*$E$87 -> 127.02468 | I7: =H7*$E$87 -> 133.37591 | J7: =I7*$E$87 -> 140.04471 | K7: =J7*$E$87 -> 147.04695
A8: 6 | D8: Kapitálové příjmy | E8: 5 | F8: 48.4 | G8: =SUMIFS('DETAIL 2020'!$G$2:$G$641,'DETAIL 2020'!$A$2:$A$641,">2999",'DETAIL 2020'!$A$2:$A$641,"<4000")/$E$90 -> 20.142396 | H8: 15 | I8: 15 | J8: 15 | K8: 16
A9: 7 | D9: Transfery | E9: 141 | F9: 160 | G9: =SUMIFS('DETAIL 2020'!$G$2:$G$641,'DETAIL 2020'!$A$2:$A$641,">3999",'DETAIL 2020'!$A$2:$A$641,"<5000")/$E$90 -> 134 | H9: =G9/$E$86 -> 129.4686 | I9: =H9/$E$86 -> 125.09043 | J9: =I9/$E$86 -> 120.86032 | K9: =J9/$E$86 -> 116.77326
A10: 8 | B10: Příjmy celkem | E10: =E6+E7+E8+E9 -> 809 | F10: =SUM(F6:F9) -> 904.1 | G10: =SUM(G6:G9) -> 887.91628 | H10: =SUM(H6:H9) -> 905.73921 | I10: =SUM(I6:I9) -> 929.91089 | J10: =SUM(J6:J9) -> 955.32513 | K10: =SUM(K6:K9) -> 983.02
A11: 9 | C11: Index Příjmy celkem (aktuální rok/předešlý rok) | F11: =F10/E10 -> 1.1175525 | G11: =G10/F10 -> 0.98209964 | H11: =H10/G10 -> 1.0200728 | I11: =I10/H10 -> 1.0266872 | J11: =J10/I10 -> 1.0273298 | K11: =K10/J10 -> 1.02899
A12: 10
A13: 11 | B13: Běžné výdaje bez oprav
A14: 12 | C14: Běžné výdaje
A15: 13 | D15: Platy a odvody | E15: 153.1 | F15: 163 | G15: 173 | H15: =G15*$E$87 -> 181.65 | I15: =H15*$E$87 -> 190.7325 | J15: =I15*$E$87 -> 200.26913 | K15: =J15*$E$87 -> 210.28258
A16: 14 | D16: Dotace poskytované městem | E16: 19.6 | F16: 20 | G16: 19.4 | H16: 19.4 | I16: 19.4 | J16: 19.4 | K16: 19.4
A17: 15 | D17: Energie - voda, elektřina, plyn, teplo, pevná paliva a pohonné hmoty | E17: 9.3 | F17: 11.3 | G17: 12.9 | H17: =G17*$E$86 -> 13.3515 | I17: =H17*$E$86 -> 13.818802 | J17: =I17*$E$86 -> 14.302461 | K17: =J17*$E$86 -> 14.803047
A18: 16 | D18: MHD - dotace na dopravní obslužnost | E18: 22.6 | F18: 26.9 | G18: 29.6 | H18: 29.6 | I18: 29.6 | J18: 29.6 | K18: 29.6
A19: 17 | D19: Ostatní (nákup služeb a materiálu, provozní náklady atp) | E19: 136.1 | F19: 160 | G19: 176.8 | H19: =G19*$E$86 -> 182.988 | I19: =H19*$E$86 -> 189.39258 | J19: =I19*$E$86 -> 196.02132 | K19: =J19*$E$86 -> 202.88207
A20: 18 | C20: Běžné výdaje celkem | E20: =SUM(E15:E19) -> 340.7 | F20: =SUM(F15:F19) -> 381.2 | G20: =SUM(G15:G19) -> 411.7 | H20: =SUM(H15:H19) -> 426.9895 | I20: =SUM(I15:I19) -> 442.94388 | J20: =SUM(J15:J19) -> 459.59291 | K20: =SUM(K15:K19) -> 476.96769
A21: 19 | C21: Index Běžné výdaje celkem (aktuální rok/předešlý rok) | F21: =F20/E20 -> 1.1188729 | G21: =G20/F20 -> 1.0800105 | H21: =H20/G20 -> 1.0371375 | I21: =I20/H20 -> 1.0373648 | J21: =J20/I20 -> 1.0375872 | K21: =K20/J20 -> 1.0378047
A22: 20
A23: 21 | C23: Provozní příspěvky
A24: 22 | D24: Technické služby | E24: 85 | F24: 91.7 | G24: 94.5 | H24: 94.5 | I24: 94.5 | J24: 94.5 | K24: 94.5
A25: 23 | D25: Centrum sociálních a zdravotních služeb | E25: 30 | F25: 31.3 | G25: 38.7 | H25: 38.7 | I25: 38.7 | J25: 38.7 | K25: 38.7
A26: 24 | D26: Sportovní zařízení města | E26: 26.4 | F26: 27.5 | G26: 28 | H26: 28 | I26: 28 | J26: 28 | K26: 28
A27: 25 | D27: Divadlo Antonína Dvořáka | E27: 27.1 | F27: 30.2 | G27: 32.6 | H27: 32.6 | I27: 32.6 | J27: 32.6 | K27: 32.6
A28: 26 | D28: Knihovna Jana Drdy | E28: 14.2 | F28: 14.6 | G28: 14.9 | H28: 14.9 | I28: 14.9 | J28: 14.9 | K28: 14.9
A29: 27 | D29: Galerie Františka Drtikola | E29: 2.8 | F29: 2.9 | G29: 3 | H29: 3 | I29: 3 | J29: 3 | K29: 3
A30: 28 | D30: Školská zařízení | E30: 38.5 | F30: 39.3 | G30: 38.3 | H30: 38.3 | I30: 38.3 | J30: 38.3 | K30: 38.3
A31: 29 | C31: Provozní příspěvky celkem | E31: =SUM(E24:E30) -> 224 | F31: =SUM(F24:F30) -> 237.5 | G31: =SUM(G24:G30) -> 250 | H31: =SUM(H24:H30) -> 250 | I31: =SUM(I24:I30) -> 250 | J31: =SUM(J24:J30) -> 250 | K31: =SUM(K24:K30) -> 250
A32: 30 | C32: Index Provozní příspěvky celkem (aktuální rok/předešlý rok) | F32: =F31/E31 -> 1.0602679 | G32: =G31/F31 -> 1.0526316 | H32: =H31/G31 -> 1 | I32: =I31/H31 -> 1 | J32: =J31/I31 -> 1 | K32: =K31/J31 -> 1
A33: 31
A34: 32 | B34: Běžné výdaje bez oprav celkem | E34: =SUM(E31,E20) -> 564.7 | F34: =SUM(F31,F20) -> 618.7 | G34: =SUM(G31,G20) -> 661.7 | H34: =SUM(H31,H20) -> 676.9895 | I34: =SUM(I31,I20) -> 692.94388 | J34: =SUM(J31,J20) -> 709.59291 | K34: =SUM(K31,K20) -> 726.96769
A35: 33 | C35: Index Běžné výdaje celkem (aktuální rok/předešlý rok) | F35: =F34/E34 -> 1.095626 | G35: =G34/F34 -> 1.0695006 | H35: =H34/G34 -> 1.0231064 | I35: =I34/H34 -> 1.0235667 | J35: =J34/I34 -> 1.0240265 | K35: =K34/J34 -> 1.0244856
A36: 34 | D36: podíl příjmů na opravy a investice (ideal => 33%) | E36: =1-(E34/E10) -> 0.30197775 | F36: =1-(F34/F10) -> 0.31567305 | G36: =1-(G34/G10) -> 0.25477208 | H36: =1-(H34/H10) -> 0.25255582 | I36: =1-(I34/I10) -> 0.25482765 | J36: =1-(J34/J10) -> 0.25722366 | K36: =1-(K34/K10) -> 0.26047518
A37: 35
A38: 36 | C38: Opravy nemovitého majetku
A39: 37 | D39: ='Plán oprav'!B4 -> doprava a parkování | H39: ='Plán oprav'!C4/$E$90 -> 15.9 | I39: ='Plán oprav'!D4/$E$90 -> 14.45 | J39: ='Plán oprav'!E4/$E$90 -> 14.45 | K39: ='Plán oprav'!F4/$E$90 -> 14.45
A40: 38 | D40: ='Plán oprav'!B5 -> sportovní a zájmová činnost | H40: ='Plán oprav'!C5/$E$90 -> 1.12 | I40: ='Plán oprav'!D5/$E$90 -> 1.12 | J40: ='Plán oprav'!E5/$E$90 -> 1.12 | K40: ='Plán oprav'!F5/$E$90 -> 4
A41: 39 | D41: ='Plán oprav'!B6 -> kultura | H41: ='Plán oprav'!C6/$E$90 -> 0.05 | I41: ='Plán oprav'!D6/$E$90 -> 0.05 | J41: ='Plán oprav'!E6/$E$90 -> 0.05 | K41: ='Plán oprav'!F6/$E$90 -> 2
A42: 40 | D42: ='Plán oprav'!B7 -> bytové hospodářství | H42: ='Plán oprav'!C7/$E$90 -> 8.532 | I42: ='Plán oprav'!D7/$E$90 -> 10.561 | J42: ='Plán oprav'!E7/$E$90 -> 6.684 | K42: ='Plán oprav'!F7/$E$90 -> 6.684
A43: 41 | D43: ='Plán oprav'!B8 -> nebytové hospodářství | H43: ='Plán oprav'!C8/$E$90 -> 3.85 | I43: ='Plán oprav'!D8/$E$90 -> 1.45 | J43: ='Plán oprav'!E8/$E$90 -> 0.56 | K43: ='Plán oprav'!F8/$E$90 -> 0.56
A44: 42 | D44: ='Plán oprav'!B9 -> vzdělávání a školské služby | H44: ='Plán oprav'!C9/$E$90 -> 22.8 | I44: ='Plán oprav'!D9/$E$90 -> 22.2 | J44: ='Plán oprav'!E9/$E$90 -> 11.2 | K44: ='Plán oprav'!F9/$E$90 -> 11.2
A45: 43 | D45: ='Plán oprav'!B10 -> zdravotnictví a sociální věci | H45: ='Plán oprav'!C10/$E$90 -> 2.5 | I45: ='Plán oprav'!D10/$E$90 -> 0.5 | J45: ='Plán oprav'!E10/$E$90 -> 0.5 | K45: ='Plán oprav'!F10/$E$90 -> 0.5
A46: 44 | D46: ='Plán oprav'!B11 -> osadní výbory opravy | H46: ='Plán oprav'!C11/$E$90 -> 1.78 | I46: ='Plán oprav'!D11/$E$90 -> 1.78 | J46: ='Plán oprav'!E11/$E$90 -> 1.78 | K46: ='Plán oprav'!F11/$E$90 -> 1.78
A47: 45 | D47: ='Plán oprav'!B12 -> městský úřad nebo místní správa | H47: ='Plán oprav'!C12/$E$90 -> 3.85 | I47: ='Plán oprav'!D12/$E$90 -> 3.35 | J47: ='Plán oprav'!E12/$E$90 -> 0.55 | K47: ='Plán oprav'!F12/$E$90 -> 0.55
A48: 46 | D48: ='Plán oprav'!B13 -> bezpečnost | H48: ='Plán oprav'!C13/$E$90 -> 0.2 | I48: ='Plán oprav'!D13/$E$90 -> 0.2 | J48: ='Plán oprav'!E13/$E$90 -> 0.2 | K48: ='Plán oprav'!F13/$E$90 -> 0.2
A49: 47 | D49: ='Plán oprav'!B14 -> ostatní | H49: ='Plán oprav'!C14/$E$90 -> 1.2 | I49: ='Plán oprav'!D14/$E$90 -> 0.1 | J49: ='Plán oprav'!E14/$E$90 -> 0.1 | K49: ='Plán oprav'!F14/$E$90 -> 0.1
A50: 48 | D50: ='Plán oprav'!B15 -> vodohospodářský majetek vč. Fondu VHM | H50: ='Plán oprav'!C15/$E$90 -> 20 | I50: ='Plán oprav'!D15/$E$90 -> 20 | J50: ='Plán oprav'!E15/$E$90 -> 20 | K50: ='Plán oprav'!F15/$E$90 -> 20
... A53: 51 | D53: ='Plán oprav'!B18 -> revitalizace sídlišť | H53: ='Plán oprav'!C18/$E$90 -> 0 | I53: ='Plán oprav'!D18/$E$90 -> 0 | J53: ='Plán oprav'!E18/$E$90 -> 0 | K53: ='Plán oprav'!F18/$E$90 -> 0
A54: 52 | C54: Opravy nemovitého majetku celkem | E54: 99.5 | F54: 125 | G54: 114.6 | H54: ='Plán oprav'!C19/$E$90 -> 81.782 | I54: ='Plán oprav'!D19/$E$90 -> 75.761 | J54: ='Plán oprav'!E19/$E$90 -> 57.194 | K54: ='Plán oprav'!F19/$E$90 -> 62.024
A55: 53
A56: 54 | C56: Kapitálové výdaje
A57: 55 | D57: ='Plán investic'!B4 -> doprava a parkování | H57: ='Plán investic'!C4/$E$90 -> 61.5 | I57: ='Plán investic'!D4/$E$90 -> 58.5 | J57: ='Plán investic'!E4/$E$90 -> 43 | K57: ='Plán investic'!F4/$E$90 -> 6
A58: 56 | D58: ='Plán investic'!B5 -> sportovní a zájmová činnost | H58: ='Plán investic'!C5/$E$90 -> 200.3 | I58: ='Plán investic'!D5/$E$90 -> 191.3 | J58: ='Plán investic'!E5/$E$90 -> 0.3 | K58: ='Plán investic'!F5/$E$90 -> 0.3
A59: 57 | D59: ='Plán investic'!B6 -> kultura | H59: ='Plán investic'!C6/$E$90 -> 2 | I59: ='Plán investic'!D6/$E$90 -> 2 | J59: ='Plán investic'!E6/$E$90 -> 2 | K59: ='Plán investic'!F6/$E$90 -> 30
A60: 58 | D60: ='Plán investic'!B7 -> zelená páteř | H60: ='Plán investic'!C7/$E$90 -> 19 | I60: ='Plán investic'!D7/$E$90 -> 17 | J60: ='Plán investic'!E7/$E$90 -> 2 | K60: ='Plán investic'!F7/$E$90 -> 2
A61: 59 | D61: ='Plán investic'!B8 -> revitalizace sídlišť | H61: ='Plán investic'!C8/$E$90 -> 5 | I61: ='Plán investic'!D8/$E$90 -> 5 | J61: ='Plán investic'!E8/$E$90 -> 5 | K61: ='Plán investic'!F8/$E$90 -> 5
A62: 60 | D62: ='Plán investic'!B9 -> vzdělávání a školské služby | H62: ='Plán investic'!C9/$E$90 -> 1 | I62: ='Plán investic'!D9/$E$90 -> 1 | J62: ='Plán investic'!E9/$E$90 -> 1 | K62: ='Plán investic'!F9/$E$90 -> 1
A63: 61 | D63: ='Plán investic'!B10 -> zdravotnictví a sociální věci | H63: ='Plán investic'!C10/$E$90 -> 10 | I63: ='Plán investic'!D10/$E$90 -> 2 | J63: ='Plán investic'!E10/$E$90 -> 2 | K63: ='Plán investic'!F10/$E$90 -> 2
A64: 62 | D64: ='Plán investic'!B11 -> bytové hospodářství | H64: ='Plán investic'!C11/$E$90 -> 17.35 | I64: ='Plán investic'!D11/$E$90 -> 11.845 | J64: ='Plán investic'!E11/$E$90 -> 6 | K64: ='Plán investic'!F11/$E$90 -> 3
A65: 63 | D65: ='Plán investic'!B12 -> nebytové hospodářství | H65: ='Plán investic'!C12/$E$90 -> 0.6 | I65: ='Plán investic'!D12/$E$90 -> 0.3 | J65: ='Plán investic'!E12/$E$90 -> 0.3 | K65: ='Plán investic'!F12/$E$90 -> 0.3
A66: 64 | D66: ='Plán investic'!B13 -> městský úřad nebo místní správa | H66: ='Plán investic'!C13/$E$90 -> 1 | I66: ='Plán investic'!D13/$E$90 -> 1 | J66: ='Plán investic'!E13/$E$90 -> 1 | K66: ='Plán investic'!F13/$E$90 -> 1
A67: 65 | D67: ='Plán investic'!B14 -> bezpečnost | H67: ='Plán investic'!C14/$E$90 -> 1 | I67: ='Plán investic'!D14/$E$90 -> 1 | J67: ='Plán investic'!E14/$E$90 -> 1 | K67: ='Plán investic'!F14/$E$90 -> 1
A68: 66 | D68: ='Plán investic'!B15 -> ostatní včetně rezervy 10 mil CZK | H68: ='Plán investic'!C15/$E$90 -> 7 | I68: ='Plán investic'!D15/$E$90 -> 4.3 | J68: ='Plán investic'!E15/$E$90 -> 4.3 | K68: ='Plán investic'!F15/$E$90 -> 4.3
... A71: 69 | D71: ='Plán investic'!B18 -> Fond pozemků - výkupy | H71: ='Plán investic'!C18/$E$90 -> 15 | I71: ='Plán investic'!D18/$E$90 -> 15 | J71: ='Plán investic'!E18/$E$90 -> 15 | K71: ='Plán investic'!F18/$E$90 -> 15
A72: 70 | C72: Kapitálové výdaje celkem | E72: 121.2 | F72: 155 | G72: 247.2 | H72: =SUM(H57:H71) -> 378.45 | I72: =SUM(I57:I71) -> 347.445 | J72: =SUM(J57:J71) -> 161.6 | K72: =SUM(K57:K71) -> 99.6
A73: 71
A74: 72 | B74: Výdaje celkem | E74: =E34+E54+E72 -> 785.4 | F74: =F34+F54+F72 -> 898.7 | G74: 1023.3 | H74: =H34+H54+H72 -> 1137.2215 | I74: =I34+I54+I72 -> 1116.1499 | J74: =J34+J54+J72 -> 928.38691 | K74: =K34+K54+K72 -> 888.59169
A75: 73
A76: 74 | B76: Schodek - nebo Přebytek + rozpočtu | E76: =E10-E74 -> 23.6 | F76: =F10-F74 -> 5.4 | G76: =G10-G74 -> -135.38372 | H76: =H10-H74 -> -231.48229 | I76: =I10-I74 -> -186.239 | J76: =J10-J74 -> 26.938223 | K76: =K10-K74 -> 94.428309
A77: 75
A78: 76 | B78: Splátka bankovního úvěru | E78: -3 | F78: -3 | J78: =PMT($E$88,$E$89,SUM(G80:K80)) -> -46.892203 | K78: =PMT($E$88,$E$89,SUM(H80:K80)) -> -46.892203
A79: 77
A80: 78 | B80: Čerpání bankovního úvěru (max 400 mil czk) | H80: 200 | I80: 200
A81: 79
A82: 80 | B82: Konečný stav hotovosti | E82: 251 | F82: 250 | G82: =G3+G10-G74+G78+G80 -> 114.61628 | H82: =H3+H10-H74+H78+H80 -> 83.133991 | I82: =I3+I10-I74+I78+I80 -> 96.894995 | J82: =J3+J10-J74+J78+J80 -> 76.941015 | K82: =K3+K10-K74+K78+K80 -> 124.47712
B85: Předpoklady a odhady:
D86: index růstu | E86: 1.035
D87: index růstu | E87: 1.05
D88: úrok % p.a. | E88: 0.03
D89: úvěr počet let | E89: 10
D90: jednotky Kč | E90: 1000000
B92: Komentář
C93: 1 | D93: Index růstu daňových příjmů, energií a ostatních provozních nákladů odhadujeme na průměrné roční úrovni 103,5% (odhad analytiků).
C94: 2 | D94: Index růstu nedaňových příjmů a platů zaměstnanců odhadujeme na průměrné roční úrovni 105% (odhad analytiků).
C95: 3 | D95: Přijaté transfery od EU, státu a kraje uvažujeme s klesající tendencí ve výši -3,4% ročně (odhad MěÚ Příbram).
C96: 4 | D96: Provozní příspěvky příspěvkových organizací jsou zastropovány na úrovni návrhu rozpočtu na rok 2020.
C97: 5 | D97: Z důvodu plánované rekonstrukce aquaparku uvažujeme s úvěrem ve výši 400 milionů korun, úrokem 3%p.a. a splatností 10 let.
B99: Zpracoval
C100: Ing. Martin Buršík, MBA / 1. místostarosta
B102: Verze
C103: 191122

Sheet Plán oprav
B2: PLÁN OPRAV
C3: =VYHLED!H1 -> 2021 | D3: =VYHLED!I1 -> 2022 | E3: =VYHLED!J1 -> 2023 | F3: =VYHLED!K1 -> 2024
B4: doprava a parkování | C4: ='O dopr'!G14 -> 15900000 | D4: ='O dopr'!H14 -> 14450000 | E4: ='O dopr'!I14 -> 14450000 | F4: ='O dopr'!J14 -> 14450000
B5: sportovní a zájmová činnost | C5: ='O sport'!G7 -> 1120000 | D5: ='O sport'!H7 -> 1120000 | E5: ='O sport'!I7 -> 1120000 | F5: ='O sport'!J7 -> 4000000
B6: kultura | C6: ='O kult'!G9 -> 50000 | D6: ='O kult'!H9 -> 50000 | E6: ='O kult'!I9 -> 50000 | F6: ='O kult'!J9 -> 2000000
B7: bytové hospodářství | C7: ='O byty'!G31 -> 8532000 | D7: ='O byty'!H31 -> 10561000 | E7: ='O byty'!I31 -> 6684000 | F7: ='O byty'!J31 -> 6684000
B8: nebytové hospodářství | C8: ='O nebyty'!G16 -> 3850000 | D8: ='O nebyty'!H16 -> 1450000 | E8: ='O nebyty'!I16 -> 560000 | F8: ='O nebyty'!J16 -> 560000
B9: vzdělávání a školské služby | C9: ='O vzdel'!G28 -> 22800000 | D9: ='O vzdel'!H28 -> 22200000 | E9: ='O vzdel'!I28 -> 11200000 | F9: ='O vzdel'!J28 -> 11200000
B10: zdravotnictví a sociální věci | C10: ='O zdr soc'!G5 -> 2500000 | D10: ='O zdr soc'!H5 -> 500000 | E10: ='O zdr soc'!I5 -> 500000 | F10: ='O zdr soc'!J5 -> 500000
B11: osadní výbory opravy | C11: ='O OV'!G16 -> 1780000 | D11: ='O OV'!H16 -> 1780000 | E11: ='O OV'!I16 -> 1780000 | F11: ='O OV'!J16 -> 1780000
B12: městský úřad nebo místní správa | C12: ='O měú'!G12 -> 3850000 | D12: ='O měú'!H12 -> 3350000 | E12: ='O měú'!I12 -> 550000 | F12: ='O měú'!J12 -> 550000
B13: bezpečnost | C13: ='O bezp'!G8 -> 200000 | D13: ='O bezp'!H8 -> 200000 | E13: ='O bezp'!I8 -> 200000 | F13: ='O bezp'!J8 -> 200000
B14: ostatní | C14: ='O ost'!G15 -> 1200000 | D14: ='O ost'!H15 -> 100000 | E14: ='O ost'!I15 -> 100000 | F14: ='O ost'!J15 -> 100000
B15: vodohospodářský majetek vč. Fondu VHM | C15: ='O VHM'!G9 -> 20000000 | D15: ='O VHM'!H9 -> 20000000 | E15: ='O VHM'!I9 -> 20000000 | F15: ='O VHM'!J9 -> 20000000
B16: projekty a studie
B17: zelená páteř
B18: revitalizace sídlišť
B19: PLÁN OPRAV CELKEM | C19: =SUM(C4:C18) -> 81782000 | D19: =SUM(D4:D18) -> 75761000 | E19: =SUM(E4:E18) -> 57194000 | F19: =SUM(F4:F18) -> 62024000

Sheet O dopr
A1: Kapitola | B1: Akce | C1: Číslo prvku | D1: Finanční položka | E1: Název prvku | F1: Popis prvku | G1: =VYHLED!H1 -> 2021 | H1: =VYHLED!I1 -> 2022 | I1: =VYHLED!J1 -> 2023 | J1: =VYHLED!K1 -> 2024
A2: 789 - SOSH | B2: Opravy a údržba | C2: 3657 | D2: 5171 | E2: Oprava a údržba komunikací | F2: výspravy komunikací po zimě | G2: 2000000 | H2: 2000000 | I2: 2000000 | J2: 2000000
A3: 789 - SOSH | B3: Opravy a údržba | C3: 3657 | D3: 5171 | E3: Oprava a údržba komunikací | F3: opravy a údržba součástí a příslušenství MK | G3: 800000 | H3: 800000 | I3: 800000 | J3: 800000
A4: 789 - SOSH | B4: Provoz SSZ - Přenos dat | C4: 3653 | D4: 5171 | E4: SSZ provoz a údržba | F4: opravy a údržba SSZ | G4: 1000000 | H4: 1000000 | I4: 1000000 | J4: 1000000
A5: 789 - SOSH | B5: Provoz SSZ - Přenos dat | C5: 3653 | D5: 5171 | E5: SSZ provoz a údržba | F5: havárie a větší opravy SSZ - rezerva | G5: 400000 | H5: 450000 | I5: 450000 | J5: 450000
A6: 789 - SOSH | B6: Provoz SSZ - Přenos dat | C6: 3653 | D6: 5171 | E6: SSZ provoz a údržba | F6: výměna LED žárovek v návěstidlech | G6: 1500000 | H6: 0 | I6: 0 | J6: 0
A7: 789 - SOSH | B7: Opravy a údržba | C7: 3662 | D7: 5171 | E7: Dopravní značení - údržba a opravy | F7: nové dopravní značení, obnova stávajícího značení v souladu s platnou legislativou | G7: 1000000 | H7: 1000000 | I7: 1000000 | J7: 1000000
A8: 789 - SOSH | B8: Opravy a údržba | C8: 3662 | D8: 5171 | E8: Dopravní značení - údržba a opravy | F8: přechodné dopravní značení | G8: 200000 | H8: 200000 | I8: 200000 | J8: 200000
A9: 789 - SOSH | B9: Opravy a údržba | C9: 3662 | D9: 5171 | E9: Dopravní značení - údržba a opravy | F9: vodorovné dopravní značení | G9: 500000 | H9: 500000 | I9: 500000 | J9: 500000
A10: 789 - SOSH | B10: Opravy a údržba | C10: 4541 | D10: 5171 | E10: Opravy mostů | F10: opravy mostů | G10: 3000000 | H10: 3000000 | I10: 3000000 | J10: 3000000
A11: 789 - SOSH | B11: Opravy a údržba | C11: 4475 | D11: 5171 | E11: Výspravy - recyklát | F11: zpracování uskladněného recyklátu na opravy MK | G11: 500000 | H11: 500000 | I11: 500000 | J11: 500000
A12: 789 - SOSH | B12: Opravy a údržba | C12: 3742 | D12: 5171 | E12: Souvislé opravy | F12: REZERVA | G12: 5000000 | H12: 5000000 | I12: 5000000 | J12: 5000000
G14: =SUM(G2:G13) -> 15900000 | H14: =SUM(H2:H13) -> 14450000 | I14: =SUM(I2:I13) -> 14450000 | J14: =SUM(J2:J13) -> 14450000

Sheet O sport
A1: Kapitola | B1: Akce | C1: Číslo prvku | D1: Finanční položka | E1: Název prvku | F1: Popis prvku | G1: =VYHLED!H1 -> 2021 | H1: =VYHLED!I1 -> 2022 | I1: =VYHLED!J1 -> 2023 | J1: =VYHLED!K1 -> 2024
A2: 786 - OIRM | B2: SZM Příbram | C2: 3255 | D2: 5171 | E2: Opravy a udržování | F2: Běžné opravy a havárie | G2: 120000 | H2: 120000 | I2: 120000 | J2: 120000
E4: REZERVA | G4: 1000000 | H4: 1000000 | I4: 1000000 | J4: 1000000
F7: CELKEM | G7: =SUM(G2:G6) -> 1120000 | H7: =SUM(H2:H6) -> 1120000 | I7: =SUM(I2:I6) -> 1120000 | J7: 4000000

Sheet O kult
A1: Kapitola | B1: Akce | C1: Číslo prvku | D1: Finanční položka | E1: Název prvku | F1: Popis prvku | G1: =VYHLED!H1 -> 2021 | H1: =VYHLED!I1 -> 2022 | I1: =VYHLED!J1 -> 2023 | J1: =VYHLED!K1 -> 2024
A2: 786 - OIRM | B2: Knihovna Jana Drdy | C2: 3291 | D2: 5171 | E2: Opravy a údržba | F2: Běžné opravy a havárie | G2: 50000 | H2: 50000 | I2: 50000
A3: 786 - OIRM | B3: Knihovna Jana Drdy | C3: 3291 | D3: 5171 | E3: Opravy a údržba | F3: nám. T.G.M. 156, Příbram I - truhlářská oprava oken
B4: Knihovna Jana Drdy | F4: Oprava místnosti půjčovny pro děti | J4: 2000000
A9: Celkem | G9: =SUM(G2:G8) -> 50000 | H9: =SUM(H2:H8) -> 50000 | I9: =SUM(I2:I8) -> 50000 | J9: =SUM(J2:J8) -> 2000000

Sheet O byty
A1: Kapitola | B1: Akce | C1: Číslo prvku | D1: Finanční položka | E1: Název prvku | F1: Popis prvku | G1: =VYHLED!H1 -> 2021 | H1: =VYHLED!I1 -> 2022 | I1: =VYHLED!J1 -> 2023 | J1: =VYHLED!K1 -> 2024
A2: 749 - MěRK | B2: Byty | C2: 484 | D2: 5171 | E2: Opravy a udržování | F2: PB I/69 - rekonstrukce 22 bytů
A3: 749 - MěRK | B3: Byty | C3: 484 | D3: 5171 | E3: Opravy a udržování | F3: PB I/15-18 - výměna stoupaček
A4: 749 - MěRK | B4: Byty | C4: 484 | D4: 5171 | E4: Opravy a udržování | F4: PB I/98 -střecha, projekt 2020, realizace vč. TDI a BOZP | G4: 1200000
A5: 749 - MěRK | B5: Byty | C5: 484 | D5: 5171 | E5: Opravy a udržování | F5: PB I/101 - okna | G5: 50000
A6: 749 - MěRK | B6: Byty | C6: 484 | D6: 5171 | E6: Opravy a udržování | F6: PB I/101 - malování
A7: 749 - MěRK | B7: Byty | C7: 484 | D7: 5171 | E7: Opravy a udržování | F7: PB III/100 - oprava bytu č.17 - nástavba
A8: 749 - MěRK | B8: Byty | C8: 484 | D8: 5171 | E8: Opravy a udržování | F8: PB I/117 - oprava střechy | H8: 1725000
A9: 749 - MěRK | B9: Byty | C9: 484 | D9: 5171 | E9: Opravy a udržování | F9: PB I/117 - výměna oken | H9: 1500000 | I9: 1500000 | J9: 1500000
A10: 749 - MěRK | B10: Byty | C10: 484 | D10: 5171 | E10: Opravy a udržování | F10: PB I/117 - oprava bytů | H10: 1000000 | I10: 1000000 | J10: 1000000
A11: 749 - MěRK | B11: Byty | C11: 484 | D11: 5171 | E11: Opravy a udržování | F11: PB I/132 - výměna oken | G11: 150000
A12: 749 - MěRK | B12: Byty | C12: 484 | D12: 5171 | E12: Opravy a udržování | F12: PB III/143 - rekonstrukce 5 bytů | G12: 1150000 | H12: 1150000 | I12: 1150000 | J12: 1150000
A13: 749 - MěRK | B13: Byty | C13: 484 | D13: 5171 | E13: Opravy a udržování | F13: PB IV/5 - oprava omítek spol.prostor, malování | G13: 300000
A14: 749 - MěRK | B14: Byty | C14: 484 | D14: 5171 | E14: Opravy a udržování | F14: PB IV/5 - výměna topných těles
A15: 749- MěRK | B15: Byty | C15: 484 | D15: 5171 | E15: Opravy a udržování | F15: PB VII/193 - výměna plyn. kotle
A16: 749- MěRK | B16: Byty | C16: 484 | D16: 5171 | E16: Opravy a udržování | F16: Vodoměry | G16: 72000 | H16: 36000 | I16: 34000 | J16: 34000
A17: 749- MěRK | B17: Byty | C17: 484 | D17: 5171 | E17: Opravy a udržování | F17: Měřiče tepla | G17: 160000 | H17: 50000
A18: 749- MěRK | B18: Byty | C18: 484 | D18: 5171 | E18: Opravy a udržování | F18: PB VIII/100 - 102 oprava koupelen a WC | G18: 1000000 | H18: 1000000 | I18: 1000000 | J18: 1000000
A19: 749 - MěRK | B19: Byty | C19: 484 | D19: 5171 | E19: Opravy a udržování | F19: PB VIII/100 - 102 osvětlení chodeb na čidla | G19: 500000
A20: 749- MěRK | B20: Byty | C20: 484 | D20: 5171 | E20: Opravy a udržování | F20: PB VIII/102 - malování chodeb | H20: 500000
A21: 749 - MěRK | B21: Byty | C21: 484 | D21: 5171 | E21: Opravy a udržování | F21: PB I/101 - plynové kotle 5 bytů | G21: 350000
A22: 749 - MěRK | B22: Byty | C22: 484 | D22: 5171 | E22: Opravy a udržování | F22: PB III/100 - 112 výměna střešních oken | G22: 300000
A23: 749 - MěRK | B23: Byty | C23: 484 | D23: 5171 | E23: Opravy a udržování | F23: PB IV/5 - oprava svodů a okapů | G23: 200000
A24: 749- MěRK | B24: Byty | C24: 484 | D24: 5171 | E24: Opravy a udržování | F24: PB VIII/101 - malování chodeb | G24: 500000
A25: 749- MěRK | B25: Byty | C25: 484 | D25: 5171 | E25: Opravy a udržování | F25: PB I/15-16 malování chodeb, sklepů | G25: 300000
A26: 749- MěRK | B26: Byty | C26: 484 | D26: 5171 | E26: Opravy a udržování | F26: PB III/143 - malování chodeb | G26: 300000 | H26: 300000
A27: 749- MěRK | B27: Byty | C27: 484 | D27: 5171 | E27: Opravy a udržování | F27: PB I/69 - oprava stoupaček | H27: 500000
A28: 749- MěRK | B28: Byty | C28: 484 | D28: 5171 | E28: Opravy a udržování | F28: PB I/17-18 malování chodeb, sklepů | H28: 300000
A29: 749- MěRK | B29: Byty | C29: 484 | D29: 5171 | E29: Opravy a udržování | F29: PB VIII/100 - malování chodeb | H29: 500000
A30: 749 - MěRK | B30: Byty | C30: 484 | D30: 5171 | E30: Opravy a udržování | F30: ostatní opravy, havárie | G30: 2000000 | H30: 2000000 | I30: 2000000 | J30: 2000000
G31: =SUM(G2:G30) -> 8532000 | H31: =SUM(H2:H30) -> 10561000 | I31: =SUM(I2:I30) -> 6684000 | J31: =SUM(J2:J30) -> 6684000

Sheet O nebyty
A1: Kapitola | B1: Akce | C1: Číslo prvku | D1: Finanční položka | E1: Název prvku | F1: Popis prvku | G1: =VYHLED!H1 -> 2021 | H1: =VYHLED!I1 -> 2022 | I1: =VYHLED!J1 -> 2023 | J1: =VYHLED!K1 -> 2024
A2: 789 - OIRM | B2: Nebytové prostory | C2: 3874 | D2: 5171 | E2: Opravy a udržování | F2: Příbram I/1 - rekonstrukce býv. soudu komplet | G2: 2000000
A3: 749 - MěRK | B3: Nebytové prostory | C3: 491 | D3: 5171 | E3: Opravy a udržování | F3: Ostatní opravy , havárie | G3: 100000 | H3: 100000 | I3: 160000 | J3: 160000
A4: 749 - MěRK | B4: Nebytové prostory | C4: 491 | D4: 5171 | E4: Opravy a udržování | F4: PB I/100 - odvlhčení vnitřních stěn | G4: 50000
A5: 749 - MěRK | B5: Nebytové prostory | C5: 491 | D5: 5171 | E5: Opravy a udržování | F5: PB I/101 - odvlhčení vnitřních stěn | H5: 50000
A6: 749 - MěRK | B6: Nebytové prostory | C6: 491 | D6: 5171 | E6: Opravy a udržování | F6: PB I/117 - výměna výloh | H6: 300000 | I6: 300000 | J6: 300000
A7: 749 - MěRK | B7: Nebytové prostory | C7: 491 | D7: 5171 | E7: Opravy a udržování | F7: PB I/129 - rozvody, toalety, izolace
A8: 749 - MěRK | B8: Nebytové prostory | C8: 491 | D8: 5171 | E8: Opravy a udržování | F8: PB IV/5 - výměna dveří 1 kus | G8: 50000 | H8: 100000 | I8: 100000 | J8: 100000
A9: 749 - MěRK | B9: Nebytové prostory | C9: 491 | D9: 5171 | E9: Opravy a udržování | F9: PB VIII/112 - zednické práce, výmalba, podlahy
A10: 749 - MěRK | B10: Nebytové prostory | C10: 491 | D10: 5171 | E10: Opravy a udržování | F10: PB VIII/112-114 (NP) výměna výloh, dveří | G10: 950000
A11: 749 - MěRK | B11: Nebytové prostory | C11: 491 | D11: 5171 | E11: Opravy a udržování | F11: PB VII/290 (NP) výměna výloh (cíl) | G11: 300000 | H11: 300000
A12: 749 - MěRK | B12: Nebytové prostory | C12: 491 | D12: 5171 | E12: Opravy a udržování | F12: PBI/129 oprava fasády, klempířské prvky, dřevěná lodžie | G12: 400000 | H12: 600000
A16: Celkem | G16: =SUM(G2:G15) -> 3850000 | H16: =SUM(H2:H15) -> 1450000 | I16: =SUM(I2:I15) -> 560000 | J16: =SUM(J2:J15) -> 560000

Sheet O vzdel
A1: Kapitola | B1: Akce | C1: Číslo prvku | D1: Finanční položka | E1: Název prvku | F1: Popis prvku | G1: =VYHLED!H1 -> 2021 | H1: =VYHLED!I1 -> 2022 | I1: =VYHLED!J1 -> 2023 | J1: =VYHLED!K1 -> 2024
A2: 786 - OIRM | B2: Základní umělecké školy | C2: 3254 | D2: 5171 | E2: Opravy a udržování | F2: Běžné opravy a havárie | G2: 100000 | H2: 100000 | I2: 100000 | J2: 100000
A3: 786 - OIRM | B3: Školní jídelny | C3: 3254 | D3: 5171 | E3: Opravy a udržování | F3: Běžné opravy a havárie | G3: 100000 | H3: 100000 | I3: 100000 | J3: 100000
A4: 786 - OIRM | B4: Školní jídelny | C4: 3254 | D4: 5171 | E4: Opravy a udržování | F4: ŠJ K Zátiší - oprava střechy | G4: 2500000
A5: 786 - OIRM | B5: Střední školy | C5: 3289 | D5: 5171 | E5: Opravy a údržba | F5: Běžné opravy a havárie | G5: 500000 | H5: 500000 | I5: 500000 | J5: 500000
A6: 786 - OIRM | B6: Střední školy | C6: 3289 | D6: 5171 | E6: Opravy a udržování | F6: SPŠ a VOŠ Příbram - výměna oken
A7: 786 - OIRM | B7: Střední školy | C7: 3289 | D7: 5171 | E7: Opravy a udržování | F7: ISŠ HPOS Příbram - výměna kotlů
A8: 786 - OIRM | B8: Střední školy | C8: 3289 | D8: 5171 | E8: Opravy a udržování | F8: ISŠ HPOS Příbram - výměna oken | H8: 6000000
A9: 786 - OIRM | B9: Střední školy | C9: 3289 | D9: 5171 | E9: Opravy a udržování | F9: SZŠ a VOŠ Příbram, Jiráskovy sady 113, Příbram - výměna kotlů | G9: 1500000
A10: 786 - OIRM | B10: Střední školy | C10: 3289 | D10: 5171 | E10: Opravy a udržování | F10: SZŠ a VOŠ Příbram, Jiráskovy sady 113, Příbram - výměna vodovodního a teplovodního potrubí | K10: 5000000 | L10: 5000000
A11: 786 - OIRM | B11: Základní školy | C11: 3872 | D11: 5171 | E11: Opravy a udržování | F11: Běžné opravy a havárie | G11: 1500000 | H11: 1500000 | I11: 1500000 | J11: 1500000
A12: 786 - OIRM | B12: Základní školy | C12: 3872 | D12: 5171 | E12: Opravy a udržování | F12: ZŠ pod Svatou Horou, Balbínova 328, Příbram II - výměna prosklených stěn tělocvičen, vrátnice, kantýny a vestibulu školy | I12: 7000000 | J12: 7000000
A13: 786 - OIRM | B13: Základní školy | C13: 3872 | D13: 5171 | E13: Opravy a udržování | F13: ZŠ Březové Hory - výměna střešní krytiny budovy č.p. 337
A14: 786 - OIRM | B14: Základní školy | C14: 3872 | D14: 5171 | E14: Opravy a udržování | F14: ZŠ Březové Hory - úprava WC (tělocvičny, žáci, učitelé) | G14: 4000000
A15: 786 - OIRM | B15: Základní školy | C15: 3872 | D15: 5171 | E15: Opravy a udržování | F15: ZŠ Jiráskovy sady - výměna oken | H15: 12000000
A16: 786 - OIRM | B16: Základní školy | C16: 3872 | D16: 5171 | E16: Opravy a udržování | F16: ZŠ 28.října 1 - oprava WC chlapci (4x) a WC pro učitele
A17: 786 - OIRM | B17: Základní školy | C17: 3872 | D17: 5171 | E17: Opravy a udržování | F17: ZŠ 28.října 1 - výměna stoupacího potrubí (kanalizace, vodovod) | G17: 2000000
A18: 786 - OIRM | B18: Základní školy | C18: 3872 | D18: 5171 | E18: Opravy a udržování | F18: ZŠ Bratří Čapků 279, Příbram VII - zvětšení prostor družin | G18: 600000
A19: 786 - OIRM | B19: Základní školy | C19: 3872 | D19: 5171 | E19: Opravy a udržování | F19: ZŠ Bratří Čapků 279, Příbram VII - oprava WC u družin | G19: 1000000
A20: 786 - OIRM | B20: Základní školy | C20: 3872 | D20: 5171 | E20: Opravy a udržování | F20: ZŠ Školní - oprava WC dívky a chlapci
A21: 786 - OIRM | B21: Základní školy | C21: 3872 | D21: 5171 | E21: Opravy a udržování | F21: ZŠ Školní - oprava střechy horního pavilonu | G21: 1500000
A22: 786 - OIRM | B22: Základní školy | C22: 3872 | D22: 5171 | E22: Opravy a udržování | F22: ZŠ Školní - výměna rozvodů vody | K22: 7000000 | L22: 7000000
A23: 786 - OIRM | B23: Základní školy | C23: 3872 | D23: 5171 | E23: Opravy a udržování | F23: Waldorfská škola, Hornická 327, Příbram II - výměna kotlů
A24: 786 - OIRM | B24: Základní školy | C24: 3872 | D24: 5171 | E24: Opravy a udržování | F24: Waldorfská škola, Hornická 327, Příbram II - oprava střech | G24: 4000000
A25: 786 - OIRM | B25: Mateřské školy | C25: 3245 | D25: 5171 | E25: Opravy | F25: Běžné opravy a havárie, např. Izolace MŠ Perníková chaloupka | G25: 2000000 | H25: 2000000 | I25: 2000000 | J25: 2000000
A26: 786 - OIRM | B26: Mateřské školy | C26: 3245 | D26: 5171 | E26: Opravy a udržování | F26: MŠ Kličkova vila - úprava kuchyně | G26: 1500000
A28: Celkem | F28: CELKEM | G28: =SUM(G2:G27) -> 22800000 | H28: =SUM(H2:H27) -> 22200000 | I28: =SUM(I2:I27) -> 11200000 | J28: =SUM(J2:J27) -> 11200000

Sheet O zdr soc
A1: Kapitola | B1: Akce | C1: Číslo prvku | D1: Finanční položka | E1: Název prvku | F1: Popis prvku | G1: =VYHLED!H1 -> 2021 | H1: =VYHLED!I1 -> 2022 | I1: =VYHLED!J1 -> 2023 | J1: =VYHLED!K1 -> 2024
A2: 786 - OIRM | B2: Centrum sociálních a zdravotních služeb města Příbram | C2: 3460 | D2: 5171 | E2: Opravy a údržba | F2: Běžné opravy a havárie (Městské jesle, Azylový dům, Domov důchodců). | G2: 500000 | H2: 500000 | I2: 500000 | J2: 500000
B3: Vzduchotechnika | F3: Vzduchotechnika kuchyně DS | G3: 2000000
A5: Celkem | G5: =SUM(G2:G4) -> 2500000 | H5: =SUM(H2:H4) -> 500000 | I5: =SUM(I2:I4) -> 500000 | J5: =SUM(J2:J4) -> 500000

Sheet O OV
A1: Kapitola | B1: Akce | C1: Číslo prvku | D1: Finanční položka | E1: Název prvku | F1: Popis prvku | G1: =VYHLED!H1 -> 2021 | H1: =VYHLED!I1 -> 2022 | I1: =VYHLED!J1 -> 2023 | J1: =VYHLED!K1 -> 2024
A2: 786 - OIRM | B2: Osadní výbory | C2: 3244 | D2: 5171 | E2: Opravy | F2: OV Brod 110.000,00 Kč, | G2: 110000 | H2: 110000 | I2: 110000 | J2: 110000
A3: 786 - OIRM | B3: Osadní výbory | C3: 3244 | D3: 5171 | E3: Opravy | F3: OV Bytíz 30.000,00 Kč, | G3: 30000 | H3: 30000 | I3: 30000 | J3: 30000
A4: 786 - OIRM | B4: Osadní výbory | C4: 3244 | D4: 5171 | E4: Opravy | F4: OV Jerusalém 100.000,00 Kč , | G4: 100000 | H4: 100000 | I4: 100000 | J4: 100000
A5: 786 - OIRM | B5: Osadní výbory | C5: 3244 | D5: 5171 | E5: Opravy | F5: OV Jesenice 30.000,00 Kč, | G5: 30000 | H5: 30000 | I5: 30000 | J5: 30000
A6: 786 - OIRM | B6: Osadní výbory | C6: 3244 | D6: 5171 | E6: Opravy | F6: OV Kozičín 200.000,00 Kč, | G6: 200000 | H6: 200000 | I6: 200000 | J6: 200000
A7: 786 - OIRM | B7: Osadní výbory | C7: 3244 | D7: 5171 | E7: Opravy | F7: OV Lazec 200.000,00 Kč | G7: 200000 | H7: 200000 | I7: 200000 | J7: 200000
A8: 786 - OIRM | B8: Osadní výbory | C8: 3244 | D8: 5171 | E8: Opravy | F8: OV Orlov 200.000,00 Kč | G8: 200000 | H8: 200000 | I8: 200000 | J8: 200000
A9: 786 - OIRM | B9: Osadní výbory | C9: 3244 | D9: 5171 | E9: Opravy | F9: OV Zavržice 40.000,00 Kč, | G9: 40000 | H9: 40000 | I9: 40000 | J9: 40000
A10: 786 - OIRM | B10: Osadní výbory | C10: 3244 | D10: 5171 | E10: Opravy | F10: OV Žežice 200.000,00 Kč, | G10: 200000 | H10: 200000 | I10: 200000 | J10: 200000
A11: 786 - OIRM | B11: Osadní výbory | C11: 3244 | D11: 5171 | E11: Opravy | F11: OV Zdaboř 200.000,00 Kč, | G11: 200000 | H11: 200000 | I11: 200000 | J11: 200000
A12: 786 - OIRM | B12: Osadní výbory | C12: 3244 | D12: 5171 | E12: Opravy | F12: OV Nová Hospoda 200.000,00 Kč, | G12: 200000 | H12: 200000 | I12: 200000 | J12: 200000
A13: 786 - OIRM | B13: Osadní výbory | C13: 3244 | D13: 5171 | E13: Opravy | F13: OV Březové Hory 200.000,00 Kč, | G13: 200000 | H13: 200000 | I13: 200000 | J13: 200000
A14: 786 - OIRM | B14: Osadní výbory | C14: 3244 | D14: 5171 | E14: Opravy | F14: OV Sázky 70.000,00 Kč. | G14: 70000 | H14: 70000 | I14: 70000 | J14: 70000
A16: Celkem | G16: =SUM(G2:G15) -> 1780000 | H16: =SUM(H2:H15) -> 1780000 | I16: =SUM(I2:I15) -> 1780000 | J16: =SUM(J2:J15) -> 1780000

Sheet O měú
A1: Kapitola | B1: Akce | C1: Číslo prvku | D1: Finanční položka | E1: Název prvku | F1: Popis prvku | G1: =VYHLED!H1 -> 2021 | H1: =VYHLED!I1 -> 2022 | I1: =VYHLED!J1 -> 2023 | J1: =VYHLED!K1 -> 2024
A2: 786 - OIRM | B2: Místní správa | C2: 3869 | D2: 5171 | E2: Opravy a udržování | F2: Běžné opravy a havárie | G2: 550000 | H2: 550000 | I2: 550000 | J2: 550000
A3: 786 - OIRM | B3: Místní správa | C3: 3869 | D3: 5171 | E3: Opravy a udržování | F3: PB I/19 - zesílení podlahy kanceláře (OOA) v 1. NP pro umístění rotomatu
A4: 786 - OIRM | B4: Místní správa | C4: 3869 | D4: 5171 | E4: Opravy a udržování | F4: PB I/19a - oprava fasády a zateplení budovy OŽP | G4: 1500000
A5: 786 - OIRM | B5: Místní správa | C5: 3869 | D5: 5171 | E5: Opravy a udržování | F5: PB I/106 - rekonstrukce dešťové a splaškové kanalizace v atriu, předláždění atria
A6: 786 - OIRM | B6: Místní správa | C6: 3869 | D6: 5171 | E6: Opravy a udržování | F6: PB I/19 - demolice rampy a vrat v zadní části dvora, zarovnání terénu a oprava zdi
A7: 786 - OIRM | B7: Místní správa | C7: 3869 | D7: 5171 | E7: Opravy a udržování | F7: PB I/106 - úprava terasy před jižním křídlem budovy, úprava suterénu pod východním křídlem | G7: 1500000
A8: 786 - OIRM | B8: Místní správa | C8: 3869 | D8: 5171 | E8: Opravy a udržování | F8: PB I/107 - oprava fasády | G8: 300000
A9: 786 - OIRM | B9: Místní správa | C9: 3869 | D9: 5171 | E9: Opravy a udržování | F9: PB I/106 - oprava vnějších fasád budovy | H9: 2800000
A12: Celkem | F12: CELKEM | G12: =SUM(G2:G11) -> 3850000 | H12: =SUM(H2:H11) -> 3350000 | I12: =SUM(I2:I11) -> 550000 | J12: 550000

Sheet O bezp
A1: Kapitola | B1: Akce | C1: Číslo prvku | D1: Finanční položka | E1: Název prvku | F1: Popis prvku | G1: =VYHLED!H1 -> 2021 | H1: =VYHLED!I1 -> 2022 | I1: =VYHLED!J1 -> 2023 | J1: =VYHLED!K1 -> 2024
A2: 786 - OIRM | B2: Požární ochrana | C2: 3868 | D2: 5171 | E2: Opravy a udržování | F2: Ostatní drobné opravy | G2: 100000 | H2: 100000 | I2: 100000 | J2: 100000
B4: MP rezerva | G4: 100000 | H4: 100000 | I4: 100000 | J4: 100000
A8: Celkem | G8: =SUM(G2:G7) -> 200000 | H8: =SUM(H2:H7) -> 200000 | I8: =SUM(I2:I7) -> 200000 | J8: =SUM(J2:J7) -> 200000

Sheet O ost
A1: Kapitola | B1: Akce | C1: Číslo prvku | D1: Finanční položka | E1: Název prvku | F1: Popis prvku | G1: =VYHLED!H1 -> 2021 | H1: =VYHLED!I1 -> 2022 | I1: =VYHLED!J1 -> 2023 | J1: =VYHLED!K1 -> 2024
A2: 786 - OIRM | B2: Technické služby | C2: 3297 | D2: 5171 | E2: Opravy a udržování | F2: Běžné opravy a havárie | G2: 100000 | H2: 100000 | I2: 100000 | J2: 100001
A3: 786 - OIRM | B3: Technické služby | C3: 3297 | D3: 5171 | E3: Opravy a udržování | F3: PB IV, U kasáren 6 - generální oprava střechy garáží
A4: 786 - OIRM | B4: Technické služby | C4: 3297 | D4: 5171 | E4: Opravy a udržování | F4: PB IV, U kasáren 6 - vybudování topení do zasedací místnosti
A5: 786 - OIRM | B5: Technické služby | C5: 3297 | D5: 5171 | E5: Opravy a udržování | F5: PB IV, U kasáren 6 - výměna vrat autodílny
A6: 786 - OIRM | B6: Technické služby | C6: 3297 | D6: 5171 | E6: Opravy a udržování | F6: PB IV, U kasáren 6 - rekonstrukce kanalizace | G6: 500000
A7: 786 - OIRM | B7: Technické služby | C7: 3297 | D7: 5171 | E7: Opravy a udržování | F7: PB III, Čs. armády 176, oprava střechy bývalé plynové kotelny | G7: 600000
A15: Celkem | G15: =SUM(G2:G14) -> 1200000 | H15: =SUM(H2:H14) -> 100000 | I15: =SUM(I2:I14) -> 100000 | J15: 100000

Sheet O VHM
A1: Kapitola | B1: Akce | C1: Číslo prvku | D1: Finanční položka | E1: Název prvku | F1: Popis prvku | G1: =VYHLED!H1 -> 2021 | H1: =VYHLED!I1 -> 2022 | I1: =VYHLED!J1 -> 2023 | J1: =VYHLED!K1 -> 2024
B2: Komenského nám. | F2: Výměna domovních uzávěrů
B3: Komenského nám. | F3: Výměna propojovacího potrubí
B4: Vodojem Husa | F4: Úprava a doplnění stávajícího zařízení
B5: Vodojem Husa | F5: Pult centrální ochrany - napojení
E6: REZERVA | G6: 20000000 | H6: 20000000 | I6: 20000000 | J6: 20000000
F9: CELKEM | G9: =SUM(G2:G8) -> 20000000 | H9: =SUM(H2:H8) -> 20000000 | I9: =SUM(I2:I8) -> 20000000 | J9: =SUM(J2:J8) -> 20000000

Sheet Plán investic
B2: PLÁN INVESTIC
C3: =VYHLED!H1 -> 2021 | D3: =VYHLED!I1 -> 2022 | E3: =VYHLED!J1 -> 2023 | F3: =VYHLED!K1 -> 2024 | H3: mimo vyhled
B4: doprava a parkování | C4: ='I dopr'!G18 -> 61500000 | D4: ='I dopr'!H18 -> 58500000 | E4: ='I dopr'!I18 -> 43000000 | F4: ='I dopr'!J18 -> 6000000 | H4: ='I dopr'!K18 -> 230000000
B5: sportovní a zájmová činnost | C5: ='I sport'!G13 -> 200300000 | D5: ='I sport'!H13 -> 191300000 | E5: ='I sport'!I13 -> 300000 | F5: ='I sport'!J13 -> 300000 | H5: ='I dopr'!K19 -> 0
B6: kultura | C6: ='I kult'!G5 -> 2000000 | D6: ='I kult'!H5 -> 2000000 | E6: ='I kult'!I5 -> 2000000 | F6: ='I kult'!J5 -> 30000000 | H6: ='I dopr'!K20 -> 0
B7: zelená páteř | C7: ='I zel páteř'!G6 -> 19000000 | D7: ='I zel páteř'!H6 -> 17000000 | E7: ='I zel páteř'!I6 -> 2000000 | F7: ='I zel páteř'!J6 -> 2000000 | H7: ='I dopr'!K21 -> 0
B8: revitalizace sídlišť | C8: ='I sidl'!G6 -> 5000000 | D8: ='I sidl'!H6 -> 5000000 | E8: ='I sidl'!I6 -> 5000000 | F8: ='I sidl'!J6 -> 5000000 | H8: ='I dopr'!K22 -> 0
B9: vzdělávání a školské služby | C9: ='I vzdel'!G11 -> 1000000 | D9: ='I vzdel'!H11 -> 1000000 | E9: ='I vzdel'!I11 -> 1000000 | F9: ='I vzdel'!J11 -> 1000000 | H9: ='I dopr'!K23 -> 0
B10: zdravotnictví a sociální věci | C10: ='I zdr soc'!G9 -> 10000000 | D10: ='I zdr soc'!H9 -> 2000000 | E10: ='I zdr soc'!I9 -> 2000000 | F10: ='I zdr soc'!J9 -> 2000000 | H10: ='I dopr'!K24 -> 0
B11: bytové hospodářství | C11: ='I byty'!G19 -> 17350000 | D11: ='I byty'!H19 -> 11845000 | E11: ='I byty'!I19 -> 6000000 | F11: ='I byty'!J19 -> 3000000 | H11: ='I dopr'!K25 -> 0
B12: nebytové hospodářství | C12: ='I nebyty'!G11 -> 600000 | D12: ='I nebyty'!H11 -> 300000 | E12: ='I nebyty'!I11 -> 300000 | F12: ='I nebyty'!J11 -> 300000 | H12: ='I dopr'!K26 -> 0
B13: městský úřad nebo místní správa | C13: ='I měú'!G8 -> 1000000 | D13: ='I měú'!H8 -> 1000000 | E13: ='I měú'!I8 -> 1000000 | F13: ='I měú'!J8 -> 1000000 | H13: ='I dopr'!K27 -> 0
B14: bezpečnost | C14: ='I bezp'!G9 -> 1000000 | D14: ='I bezp'!H9 -> 1000000 | E14: ='I bezp'!I9 -> 1000000 | F14: ='I bezp'!J9 -> 1000000 | H14: ='I dopr'!K28 -> 0
B15: ostatní včetně rezervy 10 mil CZK | C15: ='I ostatni'!G16 -> 7000000 | D15: ='I ostatni'!H16 -> 4300000 | E15: ='I ostatni'!I16 -> 4300000 | F15: ='I ostatni'!J16 -> 4300000 | H15: ='I dopr'!K29 -> 0
B16: vodohospodářský majetek | C16: ='I VHM'!G15 -> 29000000 | D16: ='I VHM'!H15 -> 27000000 | E16: ='I VHM'!I15 -> 72000000 | F16: ='I VHM'!J15 -> 22000000 | H16: ='I dopr'!K30 -> 0
B17: projekty a studie | C17: ='I PD'!G22 -> 8700000 | D17: ='I PD'!H22 -> 10200000 | E17: ='I PD'!I22 -> 6700000 | F17: ='I PD'!J22 -> 6700000 | H17: ='I dopr'!K31 -> 0
B18: Fond pozemků - výkupy | C18: 15000000 | D18: 15000000 | E18: 15000000 | F18: 15000000 | H18: ='I dopr'!K32 -> 0
B19: CELKEM | C19: =SUM(C4:C18) -> 378450000 | D19: =SUM(D4:D18) -> 347445000 | E19: =SUM(E4:E18) -> 161600000 | F19: =SUM(F4:F18) -> 99600000 | H19: =SUM(H4:H18) -> 230000000
B20: bez rekonstrukce aquaparku | C20: =C19-'I sport'!G2 -> 178450000 | D20: =D19-'I sport'!H2 -> 157445000 | E20: =E19-'I sport'!I2 -> 161600000 | F20: =F19-'I sport'!J2 -> 99600000

Sheet I dopr
A1: Kapitola | B1: Akce | C1: Číslo prvku | D1: Finanční položka | E1: Název prvku | F1: Popis prvku | G1: =VYHLED!H1 -> 2021 | H1: =VYHLED!I1 -> 2022 | I1: =VYHLED!J1 -> 2023 | J1: =VYHLED!K1 -> 2024
A2: 789 - SOSH | B2: Pozemní komunikace a silniční doprava | C2: 4180 | D2: 6122 | E2: Parkovací automaty | F2: Obnova PA - modernizace systému parkování | G2: 1000000
A3: 789 - SOSH | B3: Pozemní komunikace a silniční doprava | C3: 4180 | D3: 6122 | E3: Parkovací automaty | F3: Závory k PA | G3: 1000000
A4: 789 - SOSH | B4: Pozemní komunikace a silniční doprava | C4: 3739 | D4: 6121 | E4: Autobusové čekárny - nové | F4: Výměna autobusových čekáren | G4: 500000 | H4: 500000
A5: 786 - OIRM | B5: Prokopská ulice příbram VI - Březové Hory | C5: 4560 | D5: 6121 | E5: Realizace stavby | F5: Realizace povrchů v Prokopské ulici, v rámci celkové rekonstrukce (vyvoláno špatným technickým stavem VH sítí). | G5: 5000000
A6: 786 - OIRM | B6: Komunikace u průmyslové zóny na Jineckou | D6: 6121 | F6: Příjezdová komunikace k průmyslové zóně | G6: 30000000
A7: 786 - OIRM | B7: Komunikace - Na Leštině | D7: 6121 | F7: Rekonstrukce ul. Na Leštině, vč. vytvoření nových parkovacích míst. | G7: 5000000
A8: 786 - OIRM | B8: Parkování vnitrobloky | C8: 4561 | D8: 6121 | E8: Realizace stavby | G8: 6000000 | H8: 6000000 | I8: 6000000 | J8: 6000000
A9: 786 - OIRM | B9: Parkovací dům - AN | D9: 6121 | F9: Realizace parkovacího domu u autobusového nádraží. | H9: 35000000 | I9: 30000000
A10: 785 - OIRM | B10: Parkovací dům - Sídliště - ul. Ve Dvoře | D10: 6120 | F10: Realizace parkovacího domu - Sídliště - ul. Ve Dvoře | K10: 120000000
A11: 786 - OIRM | B11: Parkovací dům - Ryneček | D11: 6121 | F11: Realizace parkovacího domu na Rynečku. | K11: 80000000
A12: 786 - OIRM | B12: Cyklostezky | G12: 2000000 | H12: 2000000 | I12: 2000000
A13: 786 - OIRM | B13: Veřejné osvětlení | E13: Výměna veřejného osvětlení | H13: 5000000 | I13: 5000000
A14: 786 - OIRM | B14: Parkování Fialka | F14: cca 80 nových parkovacích míst u křižáku naproti Albertu | H14: 10000000
A15: 786 - OIRM | B15: Mixova | K15: 30000000
A16: 786 - OIRM | B16: Flusárna záchytné parkoviště | G16: 10000000
A17: 786 - OIRM | B17: Prokopská ul, veřejné osvětlení | D17: 6121 | F17: výměna veřejného osvětlení v Prokopskopské ul. Tato akce je v rámci kekonstrukce VH sítí v Prokopské ul. | G17: 1000000
F18: CELKEM | G18: =SUM(G2:G17) -> 61500000 | H18: =SUM(H2:H17) -> 58500000 | I18: =SUM(I2:I17) -> 43000000 | J18: =SUM(J2:J17) -> 6000000 | K18: =SUM(K2:K17) -> 230000000

Sheet I sport
A1: Kapitola | B1: Akce | C1: Číslo prvku | D1: Finanční položka | E1: Název prvku | F1: Popis prvku | G1: =VYHLED!H1 -> 2021 | H1: =VYHLED!I1 -> 2022 | I1: =VYHLED!J1 -> 2023 | J1: =VYHLED!K1 -> 2024
A2: 786 - OIRM | B2: Aquapark | D2: 6121 | E2: Realizace stavby | F2: Kompletní rekonstrukce Aquaparku | G2: 200000000 | H2: 190000000
A3: 786 - OIRM | B3: Atletický stadion | D3: 6121 | E3: Realizace stavby | F3: Atletický stadion u ZŠ Školní (odhad nákladů 70 mil. Kč, 50% dotace) | K3: 40000000
A4: 787 - OIRM | B4: sportovní haly a telocvičny | K4: 100000000
A5: 788 - OIRM | B5: plácky | G5: 300000 | H5: 300000 | I5: 300000 | J5: 300000
A6: 789 - OIRM | B6: sportovní hřiště | E6: Realizace stavby | F6: Obnova dětského hřiště Nová hospoda
A7: 790 - OIRM | B7: Nový rybník | C7: 3944 | D7: 6121 | E7: Realizace stavby | F7: rezerva Nový rybník
A8: 791 - OIRM | F8: ZŠ Bří Čapků - dokončení sportoviště
A9: 794 - OIRM | F9: Kozičín - klubovna a zázemí hřiště | H9: 1000000
A10: 792 - OIRM | B10: Kozičín | F10: Kozičín - dokončení výstavby hřiště a úschovna sítí/míčů
A13: Celkem | G13: =SUM(G2:G12) -> 200300000 | H13: =SUM(H2:H12) -> 191300000 | I13: =SUM(I2:I12) -> 300000 | J13: =SUM(J2:J12) -> 300000

Sheet I kult
A1: Kapitola | B1: Akce | C1: Číslo prvku | D1: Finanční položka | E1: Název prvku | F1: Popis prvku | G1: =VYHLED!H1 -> 2021 | H1: =VYHLED!I1 -> 2022 | I1: =VYHLED!J1 -> 2023 | J1: =VYHLED!K1 -> 2024
A2: 786 - OIRM | B2: Kulturní dům Příbram - rekonstrukce malé scény | D2: 6121 | E2: Realizace stavby | F2: Kompletní rekonstrukce malé scény Divadla A. Dvořáka. | J2: 30000000
B3: REZERVA | G3: 2000000 | H3: 2000000 | I3: 2000000
A5: Celkem | G5: =SUM(G2:G4) -> 2000000 | H5: =SUM(H2:H4) -> 2000000 | I5: =SUM(I2:I4) -> 2000000 | J5: =SUM(J2:J4) -> 30000000

Sheet I zel páteř
A1: Kapitola | B1: Akce | C1: Číslo prvku | D1: Finanční položka | E1: Název prvku | F1: Popis prvku | G1: =VYHLED!H1 -> 2021 | H1: =VYHLED!I1 -> 2022 | I1: =VYHLED!J1 -> 2023 | J1: =VYHLED!K1 -> 2024
A2: 786 - OIRM | B2: Čekalíkovský rybník a okolí | D2: 6121 | F2: Revitalizace Čekalíkovského rybníka a okolí | G2: 15000000 | H2: 15000000
A3: 786 - OIRM | B3: Zelená páteř | D3: 6121 | G3: 2000000 | H3: 2000000 | I3: 2000000 | J3: 2000000
A4: 786 - OIRM | B4: Vstup Nový rybník a úprava chodníků a příjezdové komunikace | G4: 2000000
A6: Celkem | G6: =SUM(G2:G5) -> 19000000 | H6: =SUM(H2:H5) -> 17000000 | I6: =SUM(I2:I5) -> 2000000 | J6: =SUM(J2:J5) -> 2000000

Sheet I sidl
A1: Kapitola | B1: Akce | C1: Číslo prvku | D1: Finanční položka | E1: Název prvku | F1: Popis prvku | G1: =VYHLED!H1 -> 2021 | H1: =VYHLED!I1 -> 2022 | I1: =VYHLED!J1 -> 2023 | J1: =VYHLED!K1 -> 2024
B2: REZERVA | G2: 5000000 | H2: 5000000 | I2: 5000000 | J2: 5000000
A6: Celkem | G6: =SUM(G2:G2) -> 5000000 | H6: =SUM(H2:H2) -> 5000000 | I6: =SUM(I2:I2) -> 5000000 | J6: =SUM(J2:J2) -> 5000000

Sheet I vzdel
A1: Kapitola | B1: Akce | C1: Číslo prvku | D1: Finanční položka | E1: Název prvku | F1: Popis prvku | G1: =VYHLED!H1 -> 2021 | H1: =VYHLED!I1 -> 2022 | I1: =VYHLED!J1 -> 2023 | J1: =VYHLED!K1 -> 2024
E6: REZERVA | G6: 1000000 | H6: 1000000 | I6: 1000000 | J6: 1000000
A11: Celkem | G11: =SUM(G2:G10) -> 1000000 | H11: =SUM(H2:H10) -> 1000000 | I11: =SUM(I2:I10) -> 1000000 | J11: =SUM(J2:J10) -> 1000000

Sheet I zdr soc
A1: Kapitola | B1: Akce | C1: Číslo prvku | D1: Finanční položka | E1: Název prvku | F1: Popis prvku | G1: =VYHLED!H1 -> 2021 | H1: =VYHLED!I1 -> 2022 | I1: =VYHLED!J1 -> 2023 | J1: =VYHLED!K1 -> 2024
A2: 786 - OIRM | B2: Domov seniorů, Příbram VII | D2: 6121 | F2: Realizace domova seniorů, který vznikne přestavbou bývalé školní jídelny (8.ZŠ). Kapacita objektu je 20 lůžek. Součástí je i vybudování parkoviště. | G2: 10000000
E3: REZERVA | H3: 2000000 | I3: 2000000 | J3: 2000000
A9: Celkem | G9: =SUM(G2:G8) -> 10000000 | H9: =SUM(H2:H8) -> 2000000 | I9: =SUM(I2:I8) -> 2000000 | J9: =SUM(J2:J8) -> 2000000

Sheet I byty
A1: Kapitola | B1: Akce | C1: Číslo prvku | D1: Finanční položka | E1: Název prvku | F1: Popis prvku | G1: =VYHLED!H1 -> 2021 | H1: =VYHLED!I1 -> 2022 | I1: =VYHLED!J1 -> 2023 | J1: =VYHLED!K1 -> 2024
A2: 749 - MěRK | B2: Byty | C2: 3582 | D2: 6122 | E2: Výtah - technické zhodnocení | F2: PB III/143 - dokončení - výtah + stavební úpravy k výtahu + EPS + stavba nové vrátnice
A3: 749 - MěRK | B3: Byty | C3: 3582 | D3: 6122 | E3: Výtah - technické zhodnocení | F3: PB III/143 - TDI
A4: 749 - MěRK | B4: Byty | C4: 3582 | D4: 6122 | E4: Výtah - technické zhodnocení | F4: PB VIII/100 - lůžkový výtah | G4: 1780000
A5: 749 - MěRK | B5: Byty | C5: 3582 | D5: 6122 | E5: Výtah - technické zhodnocení | F5: PB VIII/100 - osobní výtah | H5: 1800000
A6: 749 - MěRK | B6: Byty | C6: 3582 | D6: 6122 | E6: Výtah - technické zhodnocení | F6: PB VIII/100 - TDI výtahy | G6: 45000 | H6: 45000
A7: 749 - MěRK | B7: Byty | C7: 3582 | D7: 6122 | E7: Výtah - technické zhodnocení | F7: PB IV/5 - osobní výtah - PD
A8: 749 - MěRK | B8: Byty | C8: 3582 | D8: 6122 | E8: Výtah - technické zhodnocení | F8: PB IV/5 - osobní výtah - realizace a TDI | G8: 1400000
A9: 749 - MěRK | B9: Byty | C9: 3571 | D9: 6121 | E9: Technické zhodnocení | F9: PB I/69 - SO 02: fasáda, lodžie, střecha | G9: 12790000
A10: 749 - MěRK | B10: Byty | C10: 3571 | D10: 6121 | E10: Technické zhodnocení | F10: PB I/69 - SO 02:TDI, aut.dozor a koordinátor | G10: 45000
A11: 749 - MěRK | B11: Byty | C11: 3571 | D11: 6121 | E11: Technické zhodnocení | F11: PB I/15-18 - fasáda, střecha, okna, dveře | H11: 10000000 | I11: 6000000
A12: 749 - MěRK | B12: Byty | C12: 3571 | D12: 6121 | E12: Technické zhodnocení | F12: PB I/15-18 - TDI | G12: 60000
A13: 749 - MěRK | B13: Byty | C13: 3571 | D13: 6121 | E13: Technické zhodnocení | F13: PB VI/155 - modernizace zařízení kotelny, TDI
A14: 749 - MěRK | B14: Byty | C14: 3571 | D14: 6121 | E14: Technické zhodnocení | F14: PB IV/5 - vybudování nových buněk
A15: 749 - MěRK | B15: Byty | C15: 3571 | D15: 6121 | E15: Technické zhodnocení | F15: PB I/117 - modernizace zařízení kotelny, TDI | G15: 1230000
A16: 749 - MěRK | B16: Byty | C16: 3571 | D16: 6121 | E16: Technické zhodnocení | F16: PB VI/291 - okna, dveře (byt v RD), nová střecha
E17: REZERVA | J17: 3000000
A19: Celkem | G19: =SUM(G2:G18) -> 17350000 | H19: =SUM(H2:H18) -> 11845000 | I19: =SUM(I2:I18) -> 6000000 | J19: =SUM(J2:J18) -> 3000000

Sheet I nebyty
A1: Kapitola | B1: Akce | C1: Číslo prvku | D1: Finanční položka | E1: Název prvku | F1: Popis prvku | G1: =VYHLED!H1 -> 2021 | H1: =VYHLED!I1 -> 2022 | I1: =VYHLED!J1 -> 2023 | J1: =VYHLED!K1 -> 2024
A2: 749 - MěRK | B2: Nebytové prostory | D2: 6121 | E2: Technické zhodnocení | F2: PB I/100 - toalety, TDI
A3: 749 - MěRK | B3: Nebytové prostory | D3: 6121 | E3: Technické zhodnocení | F3: PB I/132 - projektová dokumentace - rekonstrukce NP
A4: 749 - MěRK | B4: Nebytové prostory | D4: 6121 | E4: Technické zhodnocení | F4: PB I/132 - změna užívání části NP na byt - rekonstrukce | G4: 300000
A5: 749 - MěRK | B5: Nebytové prostory | D5: 6121 | E5: Technické zhodnocení | F5: PB I/132 - interní rekonstrukce NP dle projektu | G5: 300000 | H5: 300000
E6: REZERVA | I6: 300000 | J6: 300000
A11: Celkem | F11: CELKEM | G11: =SUM(G2:G10) -> 600000 | H11: =SUM(H2:H10) -> 300000 | I11: =SUM(I2:I10) -> 300000 | J11: =SUM(J2:J10) -> 300000

Sheet I měú
A1: Kapitola | B1: Akce | C1: Číslo prvku | D1: Finanční položka | E1: Název prvku | F1: Popis prvku | G1: =VYHLED!H1 -> 2021 | H1: =VYHLED!I1 -> 2022 | I1: =VYHLED!J1 -> 2023 | J1: =VYHLED!K1 -> 2024
A2: 786 - OIRM | B2: Rekonstrukce WC - radnice | D2: 6121 | F2: Rekonstrukce WC v objektu radnice (1.NP a 3.NP) | H2: 1000000
B3: Rekonstrukce bývalé Rudné doly | K3: 60000000
B4: REZERVA | G4: 1000000 | I4: 1000000 | J4: 1000000
A8: Celkem | G8: =SUM(G2:G7) -> 1000000 | H8: =SUM(H2:H7) -> 1000000 | I8: =SUM(I2:I7) -> 1000000 | J8: =SUM(J2:J7) -> 1000000

Sheet I bezp
A1: Kapitola | B1: Akce | C1: Číslo prvku | D1: Finanční položka | E1: Název prvku | F1: Popis prvku | G1: =VYHLED!H1 -> 2021 | H1: =VYHLED!I1 -> 2022 | I1: =VYHLED!J1 -> 2023 | J1: =VYHLED!K1 -> 2024
A2: 717 - MP | B2: Investiční výdaje MP | C2: 92 | D2: 6122 | E2: Stroje, přístroje, zařízení | F2: rozšíření MKDS a měření rychlosti | G2: 1000000 | H2: 1000000 | I2: 1000000 | J2: 1000000
A9: Celkem | G9: =SUM(G2:G8) -> 1000000 | H9: =SUM(H2:H8) -> 1000000 | I9: =SUM(I2:I8) -> 1000000 | J9: =SUM(J2:J8) -> 1000000

Sheet I ostatni
A1: Kapitola | B1: Akce | C1: Číslo prvku | D1: Finanční položka | E1: Název prvku | F1: Popis prvku | G1: =VYHLED!H1 -> 2021 | H1: =VYHLED!I1 -> 2022 | I1: =VYHLED!J1 -> 2023 | J1: =VYHLED!K1 -> 2024
B2: Participativní rozpočet 2019 | F2: Svatohorská alej
B3: Participativní rozpočet 2019 | F3: Drkoláč
B4: Participativní rozpočet 2019 | F4: Luční kvítí Halda
A5: 786 - OIRM | B5: Stání pod kontejnery - I. etapa | C5: 4550 | D5: 6121 | E5: Realizace stavby | F5: Stání pod kontejnery v ulicích Koperníkova, Mariánská, Okružní, Pod Lesem, Vokačovská (požádáno o dotaci OPŽP, výše dotace obecně cca 85 %). PD zpracována. | G5: 300000 | H5: 300000 | I5: 300000 | J5: 300000
A6: 786 - OIRM | B6: Technické služby města Příbrami - průmyslová zóna | C6: 4584 | D6: 6121 | E6: Realizace stavby | F6: Zřízení a zpevnění plochy v průmyslové zóně
A7: 786 - OIRM | B7: Sběrný dvůr - rozšíření zpěvnéne plochy kompostárny | C7: 4584 | D7: 6121 | E7: Realizace stavby | F7: Rozšíření zpevněné plochy kompostárny
A8: 760 - OŘPD | B8: Žádosti o investiční dotace | C8: 3496 | D8: 6901 | E8: Rezerva kapitálových výdajů - různé projekty | F8: Rezerva na žádosti o dotace + publicita - nové projekty
A9: 786 - OIRM | B9: Stavebnictví různé | C9: 3365 | D9: 6121 | E9: Příprava investičních staveb velkého rozsahu | F9: Koordinátor bezpečnosti ochrany zdraví při práci (BOZP), dopravně inženýrské analýzy, hlukové studie, hydrogeologické průzkumy, geometrické plány atd. - k investičním akcím. | G9: 1000000 | H9: 1000000 | I9: 1000000 | J9: 1000000
B10: Kozičín - kontejnerové stání | F10: Kozičín - kontejnerové stání
A11: 787 - OIRM | B11: Požární ochrana | C11: 3868 | D11: 5171 | E11: Opravy a udržování | F11: Oprava hasičské zbrojnice BH a výstavba podkroví (projekt je, žádost o dotaci OŘPD???) | G11: 2700000
B12: Investiční příspěvky pro PO | G12: 3000000 | H12: 3000000 | I12: 3000000 | J12: 3000000
A16: Celkem | G16: =SUM(G2:G15) -> 7000000 | H16: =SUM(H2:H15) -> 4300000 | I16: =SUM(I2:I15) -> 4300000 | J16: =SUM(J2:J15) -> 4300000

Sheet I VHM
A1: Kapitola | B1: Akce | C1: Číslo prvku | D1: Finanční položka | E1: Název prvku | F1: Popis prvku | G1: =VYHLED!H1 -> 2021 | H1: =VYHLED!I1 -> 2022 | I1: =VYHLED!J1 -> 2023 | J1: =VYHLED!K1 -> 2024
A2: 786 - OIRM | B2: Domácí ČOV | C2: 4547 | D2: 6121 | E2: Domácí ČOV Zavržice | F2: Domáci ČOV pro 12 objektů v obci Zavržice (předpoklad dotace z MZe ve výši max. 80 % z celkových způsobilých výdajů).
A3: 786 - OIRM | B3: Domácí ČOV | C3: 4548 | D3: 6121 | E3: Domácí ČOV Bytíz | F3: Domácí ČOV pro 8 objektů v obci Bytíz (předpoklad dotace z MZe ve výši max. 80 % z celkových způsobilých výdajů).
A4: 786 - OIRM | B4: Prokopská ul, plynofikace | D4: 6121 | F4: Realizace plynovodu a přípojek pro cca 12 RD v Prokopskopské ul. Tato akce je v rámci kekonstrukce VH sítí v Prokopské ul. | G4: 2000000
A5: 786 - OIRM | B5: Kanalizace Lazec Kozičín | H5: 25000000 | I5: 70000000
B6: Zajištění tlakových poměrů Pb II- Svatá hora - nové trubky
B7: Malé vodní nádrže | F7: Dle priorit seznamu | G7: 2000000 | H7: 2000000 | I7: 2000000 | J7: 2000000
B8: Vodojem Husa | F8: Dokončení zbývajících částí rekonstrukce dle aktualizované PD
B9: Orlov - tlakové poměry | F9: Osazení čerpací stanice + zřízení přívodu el.energie
B10: Vodovod Orlov - výtlačný řad Kozičín-Orlov | F10: Výměna řadu v celé délce
B11: Komenského nám. | F11: Obnova kanalizace
E12: REZERVA | G12: 25000000 | J12: 20000000
F15: CELKEM | G15: =SUM(G2:G14) -> 29000000 | H15: =SUM(H2:H14) -> 27000000 | I15: =SUM(I2:I14) -> 72000000 | J15: =SUM(J2:J14) -> 22000000

Sheet I PD
A1: Kapitola | B1: Akce | C1: Číslo prvku | D1: Finanční položka | E1: Název prvku | F1: Popis prvku | G1: =VYHLED!H1 -> 2021 | H1: =VYHLED!I1 -> 2022 | I1: =VYHLED!J1 -> 2023 | J1: =VYHLED!K1 -> 2024
A2: 786 - OIRM | B2: Projektové dokumentace a studie | C2: 3346 | D2: 6121 | E2: Investiční projektové dokumentace | F2: Budova bývalých RD, Příbram I/121 - rekonstukce a modernizace | G2: 2000000
A3: 786 - OIRM | B3: Projektové dokumentace a studie | C3: 3346 | D3: 6121 | E3: Investiční projektové dokumentace | F3: Parkování ve městě (Flusárna, ) | G3: 3000000 | H3: 3000000
A4: 786 - OIRM | B4: Projektové dokumentace a studie | C4: 3346 | D4: 6121 | E4: Investiční projektové dokumentace | F4: Čekalíkovský rybník a okolí
A5: 786 - OIRM | B5: Projektové dokumentace a studie | C5: 3346 | D5: 6121 | E5: Investiční projektové dokumentace | F5: Zelená páteř | G5: 500000 | H5: 500000 | I5: 500000 | J5: 500000
A6: 786 - OIRM | B6: Projektové dokumentace a studie | C6: 3346 | D6: 6121 | E6: Investiční projektové dokumentace | F6: Parkovací dům na Rynečku
A7: 786 - OIRM | B7: Projektové dokumentace a studie | C7: 3346 | D7: 6121 | E7: Investiční projektové dokumentace | F7: Nové komunikace - Mixova, Jinecká | G7: 1000000 | H7: 1000000
A8: 786 - OIRM | B8: Projektové dokumentace a studie | C8: 3346 | D8: 6121 | E8: Investiční projektové dokumentace | F8: Atletický stadion | G8: 1500000
A9: 786 - OIRM | B9: Projektové dokumentace a studie | C9: 3346 | D9: 6121 | E9: Investiční projektové dokumentace | F9: Sportovní hala - novostavba. | H9: 2000000
A10: 786 - OIRM | B10: Projektové dokumentace a studie | C10: 3346 | D10: 6121 | E10: Investiční projektové dokumentace | F10: Cyklostezky | G10: 500000 | H10: 500000
A11: 786 - OIRM | B11: Projektové dokumentace a studie | C11: 3346 | D11: 6121 | E11: Investiční projektové dokumentace | F11: Kulturní dům - rekonstrukce | H11: 2000000
A12: 786 - OIRM | B12: Projektové dokumentace a studie | C12: 3346 | D12: 6121 | E12: Investiční projektové dokumentace | F12: Kozičín - zázemí na hřišti
F13: Vstup do Nováku
F14: Rekonstrukce WC na radnici 1. a 3. NP
F15: Malé vodní nádrže PD | G15: 200000 | H15: 200000 | I15: 200000 | J15: 200000
F16: Rudné doly
F17: Klimatizace podkroví ve všech budovách domova seniorů
F18: Vzduchotechnika kuchyně DS
F19: Rezerva na PD | I19: 6000000 | J19: 6000000
B20: Vodojem Orlov - rekonstrukce | F20: Vypracování projektové dokumentace
F21: TS zázemí | H21: 1000000
A22: Celkem | G22: =SUM(G2:G21) -> 8700000 | H22: =SUM(H2:H21) -> 10200000 | I22: =SUM(I2:I21) -> 6700000 | J22: =SUM(J2:J21) -> 6700000
